Workbook
Name CF: [1]Hoja1!$C$15
Name Comprobantes: '[2]Tabla de Comprobantes'!$A$3:$A$65
Name CV: [1]Hoja1!$I$15
Name PC: '[2]Tabla de Comprobantes'!$E$3:$E$14
Name PU: [1]Hoja1!$C$11

Sheet INDICE
F4: RESULTADOS
F7: PARAMETROS DEL PROYECTO
F10: PRESUPUESTO GENERAL
F13: CRONOGRAMA VALORADO
F16: FLUJO DE INGRESOS
F19: FLUJO DE CAJA
F22: VAN y TIR
F25: PUNTO DE EQUILIBRIO

Sheet RESULTADOS
A2: Nombre del Proyecto | B2: Proyecto de Vivienda de Interes Social URIN CHILLO LOTE "A"
A4: Datos Generales del Proyecto | B4: Valor
A5: Ingresos | B5: =+'PRESUPUESTO GENERAL'!I174 -> 7081052.6
A6: Costos | B6: =-(+'PRESUPUESTO GENERAL'!H54) -> -5422937.6
A7: Resultados del Proyecto | B7: =SUM(B5:B6) -> 1658114.9
A9: Rentabilidad sobre Costos | B9: =B7/-B6 -> 0.30575954
A10: Rentabilidad sobre Ventas | B10: =+B7/B5 -> 0.23416221
A11: Participaciones
A12: Nombre | B12: Valor | C12: % | D12: %
A13: Total Aportes CONSTRUCTOR | B13: =SUM(B14:B15) -> 1249442.5 | C13: =SUM(C14:C15) -> 0.68436288 | D13: =B13/-$B$6 -> 0.23039958 | E13: =+C13 -> 0.68436288 | F13: CONSTRUCTOR
A14: Terreno | C14: =+B14/$B$20 -> 0 | D14: =B14/-$B$6 -> 0
A15: Efectivo | B15: =('PRESUPUESTO GENERAL'!G19)*38.6% -> 1249442.5 | C15: =+B15/$B$20 -> 0.68436288 | D15: =B15/-$B$6 -> 0.23039958
A16: Total Aportes EPHVR | B16: =SUM(B17:B19) -> 576259.26 | C16: =SUM(C17:C19) -> 0.31563712 | D16: =B16/-$B$6 -> 0.1062633
A17: Aporte (Estudios) | B17: =+'PRESUPUESTO GENERAL'!H23 -> 117910.85 | C17: =+B17/$B$20 -> 0.06458385 | D17: =B17/-$B$6 -> 0.021742985 | E17: =+C17+C19+C18 -> 0.31563712 | F17: EPHVR
A18: Aportes (Terreno) | B18: =+'PRESUPUESTO GENERAL'!H6 -> 458348.41 | C18: =+B18/$B$20 -> 0.25105327 | D18: =B18/-$B$6 -> 0.084520318
A19: Aporte Honorarios | B19: =+'PRESUPUESTO GENERAL'!H50 -> 0 | C19: =+B19/$B$20 -> 0 | D19: =B19/-$B$6 -> 0
A20: Total Aportes | B20: =+B13+B16 -> 1825701.8 | C20: =+C13+C16 -> 1 | D20: =+D13+D16 -> 0.33666288 | E20: =+E18+E17+E13 -> 1
A22: Utilidades
A23: =+A13 -> Total Aportes CONSTRUCTOR | B23: =$B$7*C23 -> 1134752.3 | C23: =C13 -> 0.68436288
A24: =+A16 -> Total Aportes EPHVR | B24: =$B$7*C24 -> 523362.63 | C24: =C16 -> 0.31563712
A25: Total | B25: =SUM(B23:B24) -> 1658114.9 | C25: =SUM(C23:C24) -> 1
A27: Utilidades Vs Aportes Biess | B27: %
A28: Utilidad | B28: =+B23 -> 1134752.3
A29: Aportes | B29: =+B13 -> 1249442.5
A30: % | B30: =+B28/B29 -> 0.90820688
A31: CONSTRUCTOR
A32: APORTE | B32: =B13 -> 1249442.5
A33: UTILIDAD | B33: =B7*C13 -> 1134752.3
A34: RENTABILIDAD SOBRE INVERSION | B34: =B33/B32 -> 0.90820688
A36: EPHVR
A37: APORTE | B37: =B16 -> 576259.26
A38: UTILIDAD | B38: =B7*C16 -> 523362.63
A39: RENTABILIDAD SOBRE INVERSION | B39: =B38/B37 -> 0.90820688
A41: Modalidades Sobre Costos
D42: Modalidad 1 | E42: Modalidad 2
B43: Valores | C43: Aporte sobre costo Total | D43: Comercializa Aliado Estrategico | E43: Comercializa EPHVR | F43: Porcentaje de aporte sobre costos | G43: Utilidad Aportantes | H43: Utilidad socio
A44: Costo total | B44: =-B6 -> 5422937.6
A45: Aliado estrategico | B45: =+B13 -> 1249442.5 | C45: =-B13/B6 -> 0.23039958 | D45: =+B48/B44 -> 0.66333712 | F45: =+C45+D45 -> 0.8937367 | G45: =+F45*B7 -> 1481918.2 | H45: =+B7*C46 -> 176196.77
A46: EPHVR | B46: =+B16 -> 576259.26 | C46: =+B46/B44 -> 0.1062633 | E46: =+B48/B44 -> 0.66333712 | F46: =+C46+E46 -> 0.76960042 | G46: =+F46*B7 -> 1276086 | H46: =+B7*C45 -> 382028.98
A47: Aporte Inicial | B47: =SUM(B45:B46) -> 1825701.8
...

Sheet PARAMETROS DEL PROYECTO
B1: PARAMETROS DEL PROYECTO
B3: =RESULTADOS!B2 -> Proyecto de Vivienda de Interes Social URIN CHILLO LOTE "A"
B5: Inversion Total | C5: =+RESULTADOS!B6 -> -5422937.6
B6: COSTO PROMEDIO M2 CONSTRUIDO: | C6: =+'PRESUPUESTO GENERAL'!H54/'PRESUPUESTO GENERAL'!F10 -> 760.1496
B7: NÚMERO DE UNID VENTA CASAS TIPO A | C7: ='FLUJO DE INGRESOS'!C8 -> 16
B8: NÚMERO DE UNID VENTA CASAS TIPO B | C8: ='FLUJO DE INGRESOS'!C9 -> 36
B9: DEPARTAMENTOS TIPO C | C9: ='FLUJO DE INGRESOS'!C10 -> 48
B10: LOCALES COMERCIALES | C10: 0
B11: AREA PROMEDIO CASAS TIPO A | C11: ='FLUJO DE INGRESOS'!E8 -> 53.52
B12: AREA PROMEDIO CASAS TIPO B | C12: ='FLUJO DE INGRESOS'!E9 -> 75.09
B13: AREA PROMEDIO DEPARTAMENTOS | C13: ='FLUJO DE INGRESOS'!E10 -> 64.61
B14: TOTAL M2 DE VENTA | C14: =(C7*C11)+(C8*C12)+(C9*C13) -> 6660.84
B16: AREA DE TERRENO | C16: =+'PRESUPUESTO GENERAL'!F6 -> 12032.92
B18: PRECIO PROMEDIO VENTA M2 : | C18: ='FLUJO DE INGRESOS'!D12 -> 990.64
B19: PRECIO VENTA(CASAS+DEPART) Promedio | C19: ='FLUJO DE INGRESOS'!F12 -> 70810.526
B20: INTERES GANADO | C20: 0
B21: COSTO(CASAS + DEPARTAMENTO) Promedio | C21: =-C5/(C7+C8+C9) -> 54229.376
B22: COSTO(CASA TIPO 2) | C22: 0
B23: COSTO(DEPA) | C23: 0
B24: UTILIDAD POR VIVIENDA | C24: =C19-C21 -> 16581.149
B25: UTILIDAD TOTAL ESPERADA | C25: =C24*(C7+C8+C9) -> 1658114.9
B27: DURACION DEL PROYECTO | C27: 20
B28: MONTO DEL APALANCAMIENTO | C28: =+RESULTADOS!B20 -> 1825701.8
B31: RENTABILIDAD SOBRE COSTO | C31: =C25/-C5 -> 0.30575954
B32: RENTABILIDAD SOBRE VENTAS | C32: =C24/C19 -> 0.23416221
B33: RENTABILIDAD SOBRE CAPITAL FINANCIADO | C33: =C25/C28 -> 0.90820688

Sheet PRESUPUESTO GENERAL
A1: PRESUPUESTO GENERAL
A3: =RESULTADOS!B2 -> Proyecto de Vivienda de Interes Social URIN CHILLO LOTE "A"
A5: NUMERO | B5: ITEM | E5: Unidad | F5: Cantidad | G5: Costo Unitario (USD) | H5: TOTAL (USD) | I5: % / Costo Total
A6: 1 | B6: TERRENO | E6: m2 | F6: 12032.92 | G6: 38.091204 | H6: =ROUND(G6*F6,2) -> 458348.41 | I6: =+H6/$H$54 -> 0.084520318
A8: 2 | B8: COSTO DIRECTO | E8: U | F8: Cantidad | G8: Costo Unitario (USD) | H8: =+SUM(H9:H10,H14:H18,H19:H20) -> 3908554 | I8: =H8/H54 -> 0.72074479
A9: 2.1 | B9: Urbanización | E9: m2 | F9: 2112.06 | G9: =+H9/F9 -> 74.697916 | H9: 157766.48 | I9: =+H9/$H$54 -> 0.029092439
A10: 2.2 | B10: Construcción | E10: m2 | F10: 7134.04 | G10: =+H10/F10 -> 359.2918 | H10: =SUM(H11:H13) -> 2563202.1 | I10: =+H10/$H$54 -> 0.47265933
A11: 2.2.1 | B11: Construcción de viviendas tipología A (16 U.V) | E11: m2 | F11: 1001.28 | G11: =+H11/F11 -> 382.98614 | H11: 383476.36 | I11: =+H11/$H$54 -> 0.070713769
A12: 2.2.2 | B12: Construcción de viviendas tipología B (36 U.V) | E12: m2 | F12: 3029.4 | G12: =+H12/F12 -> 398.40751 | H12: 1206935.7 | I12: =+H12/$H$54 -> 0.22256124
A13: 2.2.3 | B13: Construcción de viviendas tipología C (48 U.V) | E13: m2 | F13: 3072 | G13: =+H13/F13 -> 316.66341 | H13: 972789.99 | I13: =+H13/$H$54 -> 0.17938432
A14: 2.3 | B14: Infraestructura comunal | E14: m2 | F14: 179.78 | G14: =+H14/F14 -> 831.34971 | H14: 149460.05 | I14: =+H14/$H$54 -> 0.027560717
A15: 2.4 | B15: Redes eléctricas. | E15: m | H15: 164547.59 | I15: =+H15/$H$54 -> 0.030342888
A16: 2.5 | B16: Redes hidrosanitarias. | E16: m | H16: 100463.91 | I16: =+H16/$H$54 -> 0.018525736
A17: 2.6 | B17: Redes Especiales | E17: m | H17: 58513.94 | I17: =+H17/$H$54 -> 0.010790082
A18: 2.7 | B18: Obras exteriores | E18: m2 | F18: 5912 | G18: =H18/F18 -> 7.263821 | H18: 42943.71 | I18: =+H18/$H$54 -> 0.0079189017
A19: 2.8 | B19: IMPREVISTOS | E19: % | F19: 0.05 | G19: =SUM(H9,H10,H14:H18) -> 3236897.8 | H19: =ROUND(G19*F19,2) -> 161844.89 | I19: =+H19/$H$54 -> 0.029844505
A20: 2.9 | B20: I.V.A. | E20: % | F20: 0.15 | G20: =+G19+H19 -> 3398742.6 | H20: =ROUND(G20*F20,2) -> 509811.4 | I20: =+H20/$H$54 -> 0.094010191
A22: 3 | B22: COSTO INDIRECTO | E22: - | F22: - | G22: - | H22: =+H23+H31+H42+H52+H53 -> 1056035.2 | I22: =+I23+I31+I42+I51 -> 0.19473489
A23: 3.1 | B23: PLANIFICACION | E23: % | H23: =+SUM(H24:H30) -> 117910.85 | I23: =+SUM(I24:I30) -> 0.021742985
A24: 3.1.1 | B24: Estudios del Proyecto (lote A y Lote B) | E24: % | F24: 0.026930893 | G24: =$H$8 -> 3908554 | H24: =+F24*G24 -> 105260.85 | I24: =+H24/$H$54 -> 0.019410301
A25: 3.1.2 | B25: Estudio de Mercado | E25: % | F25: 0.003236491 | G25: =$H$8 -> 3908554 | H25: =+F25*G25 -> 12650 | I25: =+H25/$H$54 -> 0.002332684
A26: 3.1.3 | E26: % | F26: =+H26/G26 -> 0 | G26: =$H$8 -> 3908554 | I26: =+H26/$H$54 -> 0
A27: 3.1.4
A28: 3.1.5
A29: 3.1.6
A30: 3.1.7
A31: 3.2 | B31: IMPUESTOS -TASAS - GARANTIAS | E31: % | F31: - | G31: - | H31: =+SUM(H32:H41) -> 192538.7 | I31: =+SUM(I32:I41) -> 0.035504502
A32: 3.2.1 | B32: Patente / 1.5 x 1.000 | E32: % | F32: 0.003 | G32: =$H$8 -> 3908554 | H32: =+F32*G32 -> 11725.662 | I32: =+H32/$H$54 -> 0.0021622344
A33: 3.2.2 | B33: Cuerpo de Bomberos (Aprobación de planos) | E33: u | F33: =+H33/G33 -> 0 | G33: =$H$8 -> 3908554 | H33: 0 | I33: =+H33/$H$54 -> 0
A34: 3.2.3 | B34: Impuestos de Aprobación (Municipio) | E34: u | F34: =+H34/G34 -> 0 | G34: =$H$8 -> 3908554 | H34: 0 | I34: =+H34/$H$54 -> 0
A35: 3.2.4 | B35: Fondo de Garantía (Póliza) | E35: % | F35: 0.016 | G35: =$H$8 -> 3908554 | H35: =+F35*G35 -> 62536.865 | I35: =+H35/$H$54 -> 0.011531917
A36: 3.2.5 | B36: Alcantarillado (Acometida) | E36: u | F36: 0.0024820381 | G36: =$H$8 -> 3908554 | H36: =+F36*G36 -> 9701.18 | I36: =+H36/$H$54 -> 0.001788916
A37: 3.2.6 | B37: Empresa Eléctrica (Acometida) | E37: u | F37: 0.025584909 | G37: =$H$8 -> 3908554 | H37: =+F37*G37 -> 100000 | I37: =+H37/$H$54 -> 0.01844019
A38: 3.2.7 | B38: CNT (Acometida) | E38: u | F38: =+H38/G38 -> 0 | G38: =$H$8 -> 3908554 | H38: 0 | I38: =+H38/$H$54 -> 0
A39: 3.2.8 | B39: Impuesto Predial | E39: % | F39: 5.8809472e-05 | G39: =$H$8 -> 3908554 | H39: =+F39*G39 -> 229.86 | I39: =+H39/$H$54 -> 4.2386621e-05
A40: 3.2.9 | B40: Garantías | E40: % | F40: 0.0006 | G40: =$H$8 -> 3908554 | H40: =+F40*G40 -> 2345.1324 | I40: =+H40/$H$54 -> 0.00043244687
A41: 3.2.10 | B41: Declaratoria de PH | E41: % | F41: 0.001535095 | G41: =$H$8 -> 3908554 | H41: =+G41*F41 -> 6000.0018 | I41: =+H41/$H$54 -> 0.0011064117
A42: 3.3 | B42: HONORARIOS | E42: % | F42: - | G42: - | H42: =+SUM(H43:H50) -> 623286.31 | I42: =+SUM(I43:I50) -> 0.11493518
A43: 3.3.1 | B43: Gastos Legales | E43: % | F43: 0.002 | G43: =$H$8 -> 3908554 | H43: =ROUND(G43*F43,2) -> 7817.11 | I43: =+H43/$H$54 -> 0.0014414899
A44: 3.3.2 | B44: Administrativos de Construcción | E44: % | F44: 0.005 | G44: =$H$8 -> 3908554 | H44: =ROUND(G44*F44,2) -> 19542.77 | I44: =+H44/$H$54 -> 0.0036037239
...

Sheet CRONOGRAMA VALORADO
A1: Conjunto Habitacional "Portal de los Valles" | B1: =RESULTADOS!B2 -> Proyecto de Vivienda de Interes Social URIN CHILLO LOTE "A"
A2: CRONOGRAMA VALORADO
A3: =+#REF! -> #REF!
A4: En dólares
F5: Mes 1 | G5: Mes 2 | H5: Mes 3 | I5: Mes 4 | J5: Mes 5 | K5: Mes 6 | L5: Mes 7 | M5: Mes 8 | N5: Mes 9 | O5: Mes 10 | P5: Mes 11 | Q5: Mes 12 | R5: Mes 13 | S5: Mes 14 | T5: Mes 15 | U5: Mes 16 | V5: Mes 17 | W5: Mes 18 | X5: Mes 19 | Y5: Mes 20 | Z5: Mes 21 | AA5: Mes 22 | AB5: Mes 23 | AC5: Mes 24 | AD5: Mes 25 | AE5: Mes 26 | AF5: Mes 27 | AG5: Mes 28 | AH5: Mes 29 | AI5: Mes 30 | AJ5: Mes 31 | AK5: Mes 32 | AL5: Mes 33 | AM5: Mes 34 | AN5: Mes 35 | AO5: Mes 36 | AP5: Mes 37 | AQ5: Mes 38 | AR5: Mes 39 | AS5: Mes 40 | AT5: Mes 41 | AU5: Mes 42 | AV5: Mes 43 | AW5: Mes 44 | AX5: Mes 45 | AY5: Mes 46 | AZ5: Mes 47 | BA5: Mes 48
A7: RUBROS | C7: PRECIO TOTAL CONTRACTUAL | D7: % CRONOG. | E7: ACUMILADO EJECUTADO | F7: 46357 | G7: =+F7+31 -> 46388 | H7: =+G7+31 -> 46419 | I7: =+H7+31 -> 46450 | J7: =+I7+31 -> 46481 | K7: =+J7+31 -> 46512 | L7: =+K7+31 -> 46543 | M7: =+L7+31 -> 46574 | N7: =+M7+31 -> 46605 | ... BA7: =+AZ7+31 -> 47814 | BB7: TOTAL | BC7: PRESUPUESTO
A8: CONSTRUCCION VIVIENDAS | BB8: =SUM(E8:AS8) -> 0 | BC8: =C8 -> 0
A9: 1 | B9: ='PRESUPUESTO GENERAL'!B11 -> Construcción de viviendas tipología A (16 U.V) | C9: ='PRESUPUESTO GENERAL'!H11 -> 383476.36 | D9: =C9/$C$40 -> 0.11847033 | E9: 0 | F9: 28460.888 | G9: 28460.888 | H9: 31987.315 | I9: 31987.315 | J9: 21812.529 | K9: 21812.529 | L9: 21812.529 | M9: 9516.9822 | N9: 9516.9822 | O9: 11798.421 | P9: 11798.421 | Q9: 10810.29 | R9: 30757.068 | S9: 41136.816 | T9: 25003.07 | U9: 23044.671 | V9: 10328.843 | W9: 13430.802 | X9: 0 | Y9: 0 | Z9: 0 | AA9: 0 | AB9: 0 | AC9: 0 | AD9: 0 | AE9: 0 | AF9: 0 | AG9: 0 | AH9: 0 | AI9: 0 | AJ9: 0 | AK9: 0 | AL9: 0 | AM9: 0 | AN9: 0 | AO9: 0 | AP9: 0 | AQ9: 0 | AR9: 0 | AS9: 0 | AT9: 0 | AU9: 0 | AV9: 0 | AW9: 0 | AX9: 0 | AY9: 0 | AZ9: 0 | BA9: 0 | BB9: =SUM(E9:BA9) -> 383476.36 | BC9: =C9 -> 383476.36
E10: 0 | F10: 0 | G10: 0 | H10: 0 | I10: 0 | J10: 0 | K10: 0 | L10: 0 | M10: 0 | N10: 0 | O10: 0 | P10: 0 | BB10: =SUM(E10:BA10) -> 0 | BC10: =C10 -> 0
A11: 2 | B11: ='PRESUPUESTO GENERAL'!B12 -> Construcción de viviendas tipología B (36 U.V) | C11: ='PRESUPUESTO GENERAL'!H12 -> 1206935.7 | D11: =C11/$C$40 -> 0.37286804 | E11: 0 | F11: 77747.125 | G11: 77747.125 | H11: 100302.74 | I11: 100302.74 | J11: 74879.083 | K11: 74879.083 | L11: 74879.083 | M11: 27348.414 | N11: 27348.414 | O11: 38343.746 | P11: 38343.746 | Q11: 34855.61 | R11: 105871.1 | S11: 127418.76 | T11: 83429.547 | U11: 53511.793 | V11: 45632.58 | W11: 44095.025 | X11: 0 | Y11: 0 | Z11: 0 | AA11: 0 | AB11: 0 | AC11: 0 | AD11: 0 | AE11: 0 | AF11: 0 | AG11: 0 | AH11: 0 | AI11: 0 | AJ11: 0 | AK11: 0 | AL11: 0 | AM11: 0 | AN11: 0 | AO11: 0 | AP11: 0 | AQ11: 0 | AR11: 0 | AS11: 0 | AT11: 0 | AU11: 0 | AV11: 0 | AW11: 0 | AX11: 0 | AY11: 0 | AZ11: 0 | BA11: 0 | BB11: =SUM(E11:BA11) -> 1206935.7 | BC11: =C11 -> 1206935.7
E12: 0 | F12: 0 | G12: 0 | H12: 0 | I12: 0 | J12: 0 | K12: 0 | L12: 0 | M12: 0 | N12: 0 | O12: 0 | P12: 0 | BB12: =SUM(E12:BA12) -> 0 | BC12: =C12 -> 0
A13: 3 | B13: ='PRESUPUESTO GENERAL'!B13 -> Construcción de viviendas tipología C (48 U.V) | C13: ='PRESUPUESTO GENERAL'!H13 -> 972789.99 | D13: =C13/$C$40 -> 0.30053158 | E13: 0 | F13: 37336.899 | G13: 37336.899 | H13: 72625.585 | I13: 72625.585 | J13: 49242.327 | K13: 49242.327 | L13: 49242.327 | M13: 19049.819 | N13: 19049.819 | O13: 30151.222 | P13: 30151.222 | Q13: 30364.82 | R13: 101956.05 | S13: 116241.89 | T13: 72295.963 | U13: 85613.149 | V13: 56038.476 | W13: 44225.616 | X13: 0 | Y13: 0 | Z13: 0 | AA13: 0 | AB13: 0 | AC13: 0 | AD13: 0 | AE13: 0 | AF13: 0 | AG13: 0 | AH13: 0 | AI13: 0 | AJ13: 0 | AK13: 0 | AL13: 0 | AM13: 0 | AN13: 0 | AO13: 0 | AP13: 0 | AQ13: 0 | AR13: 0 | AS13: 0 | AT13: 0 | AU13: 0 | AV13: 0 | AW13: 0 | AX13: 0 | AY13: 0 | AZ13: 0 | BA13: 0 | BB13: =SUM(E13:BA13) -> 972789.99 | BC13: =C13 -> 972789.99
AJ14: 0 | AS14: 0 | BB14: =SUM(E14:BA14) -> 0 | BC14: =C14 -> 0
A15: 4
C17: =+[3]Presupuesto!G38 -> 0 | AJ17: 0 | AS17: 0 | BB17: =SUM(E17:BA17) -> 0 | BC17: =C17 -> 0
F18: 0 | G18: 0 | H18: 0 | I18: 0 | J18: 0 | K18: 0 | L18: 0 | M18: 0 | N18: 0 | O18: 0 | P18: 0 | Q18: 0 | R18: 0 | S18: 0 | T18: 0 | U18: 0 | V18: 0 | W18: 0 | X18: 0 | Y18: 0 | Z18: 0 | AA18: 0 | AB18: 0 | AC18: 0 | AD18: 0 | AE18: 0 | AF18: 0 | AG18: 0 | AJ18: 0 | AS18: 0 | BB18: =SUM(E18:BA18) -> 0 | BC18: =C18 -> 0
A19: Subtotal Progamado | C19: =SUM(C9,C11,C13,C17) -> 2563202.1 | D19: =+D13+D11+D9 -> 0.79186995 | E19: =SUM(E9,E17) -> 0 | F19: =SUM(F9,F11,F13,F17) -> 143544.91 | G19: =SUM(G9,G11,G13,G17) -> 143544.91 | H19: =SUM(H9,H11,H13,H17) -> 204915.64 | I19: =SUM(I9,I11,I13,I17) -> 204915.64 | J19: =SUM(J9,J11,J13,J17) -> 145933.94 | K19: =SUM(K9,K11,K13,K17) -> 145933.94 | L19: =SUM(L9,L11,L13,L17) -> 145933.94 | M19: =SUM(M9,M11,M13,M17) -> 55915.215 | ... R19: =SUM(R9,R11,R13,R17) -> 238584.22 | S19: =S9+S11+S13 -> 284797.46 | T19: =T9+T11+T13 -> 180728.58 | U19: =U9+U11+U13 -> 162169.61 | V19: =V9+V11+V13 -> 111999.9 | W19: =W9+W11+W13 -> 101751.44 | X19: =X9+X11+X13 -> 0 | Y19: =Y9+Y11+Y13 -> 0 | Z19: =Z9+Z11+Z13 -> 0 | ... AR19: =AR9+AR11+AR13 -> 0 | AS19: =SUM(AS9,AS11,AS13,AS17) -> 0 | BB19: =SUM(E19:BA19) -> 2563202.1 | BC19: =C19 -> 2563202.1
A20: Subtotal Ejecutado | C20: =SUM(C10,C18) -> 0 | E20: 0 | F20: 0 | G20: 0 | H20: 0 | I20: 0 | J20: 0 | K20: 0 | L20: 0 | M20: 0 | N20: 0 | O20: 0 | P20: 0 | Q20: 0 | R20: 0 | S20: 0 | T20: 0 | U20: 0 | V20: 0 | W20: 0 | X20: 0 | Y20: 0 | Z20: 0 | AA20: 0 | AB20: 0 | AC20: 0 | AD20: 0 | AE20: 0 | AF20: 0 | AG20: 0 | AJ20: 0 | AS20: 0 | BB20: =SUM(E20:BA20) -> 0 | BC20: =C20 -> 0
BB21: =SUM(E21:BA21) -> 0 | BC21: =C21 -> 0
A22: OBRAS COMPLEMENTARIAS | BB22: =SUM(E22:BA22) -> 0 | BC22: =C22 -> 0
A23: 1 | B23: Urbanización | C23: ='PRESUPUESTO GENERAL'!H9 -> 157766.48 | D23: =C23/$C$40 -> 0.048740026 | E23: 0 | F23: 22918.36 | G23: 22918.36 | H23: 10053.66 | I23: 10053.66 | J23: 134.24 | K23: 134.24 | L23: 134.24 | M23: 9915.845 | N23: 9915.845 | O23: 1885.9806 | P23: 1885.9806 | Q23: 30245.891 | R23: 30125.001 | S23: 1489.0352 | T23: 1489.0352 | U23: 1489.0352 | V23: 1489.0352 | W23: 1489.0352 | AL23: =+$C$23*-AL59 -> 0 | AM23: =+$C$23*-AM59 -> 0 | AN23: =+$C$23*-AN59 -> 0 | AO23: =+$C$23*-AO59 -> 0 | AP23: =+$C$23*-AP59 -> 0 | AQ23: =+$C$23*-AQ59 -> 0 | AR23: =+$C$23*-AR59 -> 0 | AS23: =+$C$23*-AS59 -> 0 | ... BA23: =+$C$23*-BA59 -> 0 | BB23: =SUM(E23:BA23) -> 157766.48 | BC23: =C23 -> 157766.48
F24: 0 | G24: 0 | H24: 0 | I24: 0 | J24: 0 | K24: 0 | L24: 0 | M24: 0 | N24: 0 | O24: 0 | P24: 0 | Q24: 0 | R24: 0 | S24: 0 | T24: 0 | U24: 0 | V24: 0 | W24: 0 | AJ24: 0 | AS24: 0 | BB24: =SUM(E24:BA24) -> 0 | BC24: =C24 -> 0
A25: 2 | B25: Infraestructura comunal | C25: ='PRESUPUESTO GENERAL'!H14 -> 149460.05 | D25: =C25/$C$40 -> 0.046173856 | F25: 16179.693 | G25: 16179.693 | H25: 26643.793 | I25: 26643.793 | J25: 8745.9429 | K25: 8745.9429 | L25: 8745.9429 | M25: 2075.91 | N25: 2075.91 | O25: 1893.65 | P25: 1893.65 | Q25: 807.64 | R25: 13794.385 | S25: 12164.465 | T25: 1379.12 | U25: 0 | V25: 1490.52 | W25: 0 | BB25: =SUM(E25:BA25) -> 149460.05 | BC25: =C25 -> 149460.05
F26: 0 | G26: 0 | H26: 0 | I26: 0 | J26: 0 | K26: 0 | L26: 0 | M26: 0 | N26: 0 | O26: 0 | P26: 0 | BB26: =SUM(E26:BA26) -> 0 | BC26: =C26 -> 0
A27: 3 | B27: Red Eléctrica exterior | C27: ='PRESUPUESTO GENERAL'!H15 -> 164547.59 | D27: =C27/$C$40 -> 0.050834967 | E27: 0 | F27: 1370.27 | G27: 1370.27 | H27: 8311.6725 | I27: 8311.6725 | J27: 13193.023 | K27: 13193.023 | L27: 13193.023 | M27: 38183.253 | N27: 38183.253 | O27: 6659.41 | P27: 6659.41 | Q27: 15919.31 | R27: 0 | S27: 0 | T27: 0 | U27: 0 | V27: 0 | W27: 0 | AJ27: 0 | AS27: 0 | BB27: =SUM(E27:BA27) -> 164547.59 | BC27: =C27 -> 164547.59
F28: 0 | G28: 0 | H28: 0 | I28: 0 | J28: 0 | K28: 0 | L28: 0 | M28: 0 | N28: 0 | O28: 0 | P28: 0 | BB28: =SUM(E28:BA28) -> 0 | BC28: =C28 -> 0
A29: 4 | B29: Red Hidrosanitaria exterior | C29: ='PRESUPUESTO GENERAL'!H16 -> 100463.91 | D29: =C29/$C$40 -> 0.031037097 | F29: 0 | G29: 0 | H29: 0 | I29: 0 | J29: 0 | K29: 0 | L29: 0 | M29: 6549.395 | N29: 6549.395 | O29: 17033.655 | P29: 17033.655 | Q29: 38222.24 | R29: 6062.29 | S29: 9013.28 | T29: 0 | U29: 0 | V29: 0 | W29: 0 | AJ29: 0 | AS29: 0 | BB29: =SUM(E29:BA29) -> 100463.91 | BC29: =C29 -> 100463.91
F30: 0 | G30: 0 | H30: 0 | I30: 0 | J30: 0 | K30: 0 | L30: 0 | M30: 0 | N30: 0 | O30: 0 | P30: 0 | BB30: =SUM(E30:BA30) -> 0 | BC30: =C30 -> 0
A31: 5 | B31: Redes Especiales | C31: ='PRESUPUESTO GENERAL'!H17 -> 58513.94 | D31: =C31/$C$40 -> 0.018077167 | F31: 0 | G31: 0 | H31: 0 | I31: 0 | J31: 0 | K31: 0 | L31: 0 | M31: 382.18 | N31: 382.18 | O31: 10091.163 | P31: 10091.163 | Q31: 6507.175 | R31: 853.65 | S31: 1946.3 | T31: 12331.89 | U31: 0 | V31: 11499.11 | W31: 4429.13 | AJ31: 0 | AS31: 0 | BB31: =SUM(E31:BA31) -> 58513.94 | BC31: =C31 -> 58513.94
F32: 0 | G32: 0 | H32: 0 | I32: 0 | J32: 0 | K32: 0 | L32: 0 | M32: 0 | N32: 0 | O32: 0 | P32: 0 | BB32: =SUM(E32:BA32) -> 0 | BC32: =C32 -> 0
A33: 6 | B33: Obras Exteriores | C33: ='PRESUPUESTO GENERAL'!H18 -> 42943.71 | D33: =C33/$C$40 -> 0.013266934 | F33: 1249.4824 | G33: 1249.4824 | H33: 1249.4824 | I33: 1249.4824 | J33: 832.98827 | K33: 832.98827 | L33: 832.98827 | M33: 1249.4824 | N33: 1249.4824 | O33: 1030.2177 | P33: 1030.2177 | Q33: 2060.4354 | R33: 2264.4604 | S33: 2264.4604 | T33: 4719.8323 | U33: 4719.8323 | V33: 4719.8323 | W33: 10138.562 | AJ33: 0 | AS33: 0 | BB33: =SUM(E33:BA33) -> 42943.71 | BC33: =C33 -> 42943.71
BB34: =SUM(E34:BA34) -> 0 | BC34: =C34 -> 0
C35: 0 | D35: =C35/$C$40 -> 0 | F35: 0 | G35: 0 | H35: 0 | I35: 0 | J35: 0 | K35: 0 | L35: 0 | M35: 0 | N35: 0 | O35: 0 | P35: 0 | Q35: 0 | R35: 0 | AJ35: 0 | AS35: 0 | BB35: =SUM(E35:BA35) -> 0 | BC35: =C35 -> 0
BB36: =SUM(E36:BA36) -> 0 | BC36: =C36 -> 0
A37: Subtotal Progamado | C37: =SUM(C23,C25,C27,C29,C31,C33,C35) -> 673695.68 | D37: =SUM(D23,D25,D27,D29,D31,D33,D35) -> 0.20813005 | E37: =SUM(E23,E25,E27,E29,E31,E33,E35) -> 0 | F37: =SUM(F23,F25,F27,F29,F31,F33,F35) -> 41717.805 | G37: =SUM(G23,G25,G27,G29,G31,G33,G35) -> 41717.805 | H37: =SUM(H23,H25,H27,H29,H31,H33,H35) -> 46258.608 | I37: =SUM(I23,I25,I27,I29,I31,I33,I35) -> 46258.608 | J37: =SUM(J23,J25,J27,J29,J31,J33,J35) -> 22906.194 | ... AS37: =SUM(AS23,AS25,AS27,AS29,AS31,AS33,AS35) -> 0 | BB37: =SUM(E37:BA37) -> 673695.68 | BC37: =+C37 -> 673695.68
A38: Subtotal Ejecutado | BB38: =SUM(E38:BA38) -> 0
BB39: =SUM(E39:BA39) -> 0 | BC39: =C39 -> 0
A40: TOTAL PROGRAMADO | C40: =+C19+C37 -> 3236897.8 | D40: =D19+D37 -> 1 | E40: =SUM(E19,E37) -> 0 | F40: =+F37+F19 -> 185262.72 | G40: =+G37+G19 -> 185262.72 | H40: =+H37+H19 -> 251174.25 | I40: =+I37+I19 -> 251174.25 | J40: =+J37+J19 -> 168840.13 | K40: =+K37+K19 -> 168840.13 | L40: =+L37+L19 -> 168840.13 | M40: =+M37+M19 -> 114271.28 | ... W40: =+W37+W19 -> 117808.17 | BB40: =SUM(E40:BA40) -> 3236897.8 | BC40: =C40 -> 3236897.8
A41: TOTAL EJECUTADO | C41: =SUM(C20,C38) -> 0 | BB41: =SUM(E41:BA41) -> 0 | BC41: =C41 -> 0
BB42: =SUM(E42:BA42) -> 0 | BC42: =C42 -> 0
...

Sheet FLUJO DE INGRESOS
A1: =RESULTADOS!B2 -> Proyecto de Vivienda de Interes Social URIN CHILLO LOTE "A"
A2: FLUJO DE INGRESOS
A3: =+#REF! -> #REF!
A7: Descripción | B7: Tipo | C7: Cantidad | D7: PVP Prom. x m2 | E7: m2 Promedio | F7: Precio Promedio | G7: Ventas totales | H7: Total M2 Construidos VP | N7: Reserva | O7: Entrada | P7: Crédito Hipotecario
A8: Tipologia | B8: A | C8: =COUNTIF($C$17:$C$116,B8) -> 16 | D8: =AVERAGEIF($C$17:$C$116,B8,$N$17:$N$116) -> 1120 | E8: =AVERAGEIF($C$17:$C$116,B8,$G$17:$G$116) -> 53.52 | F8: =AVERAGEIF($C$17:$C$116,B8,$O$17:$O$116) -> 67105.746 | G8: =+C8*F8 -> 1073691.9 | H8: =C8*E8 -> 856.32 | N8: 0.01 | O8: 0.04 | P8: 0.95 | V8: ABSORCIÓN
A9: Tipologia | B9: B | C9: =COUNTIF($C$17:$C$116,B9) -> 36 | D9: =AVERAGEIF($C$17:$C$116,B9,$N$17:$N$116) -> 994 | E9: =AVERAGEIF($C$17:$C$116,B9,$G$17:$G$116) -> 75.09 | F9: =AVERAGEIF($C$17:$C$116,B9,$O$17:$O$116) -> 82129.195 | G9: =+C9*F9 -> 2956651 | H9: =C9*E9 -> 2703.24 | N9: 0.01 | O9: 0.04 | P9: 0.95 | V9: Casas Tipo A | X9: =COUNT(X35:X50) -> 1 | Y9: =COUNTBLANK(X35:X50)-COUNTBLANK(Y35:Y50) -> 1 | Z9: =COUNTBLANK(Y35:Y50)-COUNTBLANK(Z35:Z50) -> 1 | AA9: =COUNTBLANK(Z35:Z50)-COUNTBLANK(AA35:AA50) -> 1 | AB9: =COUNTBLANK(AA35:AA50)-COUNTBLANK(AB35:AB50) -> 1 | AC9: =COUNTBLANK(AB35:AB50)-COUNTBLANK(AC35:AC50) -> 2 | AD9: =COUNTBLANK(AC35:AC50)-COUNTBLANK(AD35:AD50) -> 2 | AE9: =COUNTBLANK(AD35:AD50)-COUNTBLANK(AE35:AE50) -> 2 | AF9: =COUNTBLANK(AE35:AE50)-COUNTBLANK(AF35:AF50) -> 2 | ... DS9: =COUNTBLANK(DR35:DR50)-COUNTBLANK(DS35:DS50) -> 0 | DT9: =SUM(X9:DS9) -> 16
A10: Tipologia | B10: C | C10: =COUNTIF($C$17:$C$116,B10) -> 48 | D10: =AVERAGEIF($C$17:$C$116,B10,$N$17:$N$116) -> 945 | E10: =AVERAGEIF($C$17:$C$116,B10,$G$17:$G$116) -> 64.61 | F10: =AVERAGEIF($C$17:$C$116,B10,$O$17:$O$116) -> 63556.45 | G10: =+C10*F10 -> 3050709.6 | H10: =C10*E10 -> 3101.28 | N10: 0.01 | O10: 0.04 | P10: 0.95 | V10: Casas Tipo B BQ1 | X10: =COUNT(X17:X34) -> 1 | Y10: =COUNTBLANK(X17:X34)-COUNTBLANK(Y17:Y34) -> 2 | Z10: =COUNTBLANK(Y17:Y34)-COUNTBLANK(Z17:Z34) -> 2 | AA10: =COUNTBLANK(Z17:Z34)-COUNTBLANK(AA17:AA34) -> 2 | AB10: =COUNTBLANK(AA17:AA34)-COUNTBLANK(AB17:AB34) -> 2 | AC10: =COUNTBLANK(AB17:AB34)-COUNTBLANK(AC17:AC34) -> 2 | AD10: =COUNTBLANK(AC17:AC34)-COUNTBLANK(AD17:AD34) -> 2 | AE10: =COUNTBLANK(AD17:AD34)-COUNTBLANK(AE17:AE34) -> 2 | AF10: =COUNTBLANK(AE17:AE34)-COUNTBLANK(AF17:AF34) -> 2 | ... DS10: =COUNTBLANK(DR17:DR34)-COUNTBLANK(DS17:DS34) -> 0 | DT10: =SUM(X10:DS10) -> 18
V11: Casas Tipo B BQ2 | X11: =COUNT(X51:X68) -> 0 | Y11: =COUNTBLANK(X51:X68)-COUNTBLANK(Y51:Y68) -> 1 | Z11: =COUNTBLANK(Y51:Y68)-COUNTBLANK(Z51:Z68) -> 2 | AA11: =COUNTBLANK(Z51:Z68)-COUNTBLANK(AA51:AA68) -> 2 | AB11: =COUNTBLANK(AA51:AA68)-COUNTBLANK(AB51:AB68) -> 2 | AC11: =COUNTBLANK(AB51:AB68)-COUNTBLANK(AC51:AC68) -> 2 | AD11: =COUNTBLANK(AC51:AC68)-COUNTBLANK(AD51:AD68) -> 2 | AE11: =COUNTBLANK(AD51:AD68)-COUNTBLANK(AE51:AE68) -> 2 | AF11: =COUNTBLANK(AE51:AE68)-COUNTBLANK(AF51:AF68) -> 2 | ... DS11: =COUNTBLANK(DR51:DR68)-COUNTBLANK(DS51:DS68) -> 0 | DT11: =SUM(X11:DS11) -> 18
A12: Totales | C12: =SUM(C8:C11) -> 100 | D12: =SUMPRODUCT(C8:C10,D8:D10)/C12 -> 990.64 | E12: =SUMPRODUCT(C8:C10,E8:E10)/C12 -> 66.6084 | F12: =SUMPRODUCT(C8:C10,F8:F10)/C12 -> 70810.526 | G12: =SUM(G8:G10) -> 7081052.6 | H12: =SUM(H8:H10) -> 6660.84 | V12: Departamentos | X12: =COUNT(X69:X116) -> 0 | Y12: =COUNTBLANK(X69:X116)-COUNTBLANK(Y69:Y116) -> 1 | Z12: =COUNTBLANK(Y69:Y116)-COUNTBLANK(Z69:Z116) -> 2 | AA12: =COUNTBLANK(Z69:Z116)-COUNTBLANK(AA69:AA116) -> 3 | AB12: =COUNTBLANK(AA69:AA116)-COUNTBLANK(AB69:AB116) -> 4 | AC12: =COUNTBLANK(AB69:AB116)-COUNTBLANK(AC69:AC116) -> 4 | AD12: =COUNTBLANK(AC69:AC116)-COUNTBLANK(AD69:AD116) -> 4 | AE12: =COUNTBLANK(AD69:AD116)-COUNTBLANK(AE69:AE116) -> 4 | AF12: =COUNTBLANK(AE69:AE116)-COUNTBLANK(AF69:AF116) -> 4 | ... DS12: =COUNTBLANK(DR69:DR116)-COUNTBLANK(DS69:DS116) -> 0 | DT12: =SUM(X12:DS12) -> 48
X13: 0 | Y13: 0 | Z13: 0 | AA13: 0 | AB13: 0 | AC13: 0 | AD13: 0 | AE13: 0 | AF13: 0 | AG13: 0 | AH13: 0 | AI13: 0 | AJ13: 0 | AK13: 0 | AL13: 0 | AM13: 0 | AN13: 0 | AO13: 0 | AP13: 0 | AQ13: 0 | AR13: 0 | AS13: 0 | AT13: 0 | AU13: 0 | AV13: 0 | AW13: 0 | AX13: 0 | AY13: 0 | AZ13: 0 | BA13: 0 | BB13: 0 | BC13: 0 | BD13: 0 | BE13: 0 | BF13: 0 | BG13: 0 | BH13: 0 | BI13: 0 | BJ13: 0 | BK13: 0 | BL13: 0 | BM13: 0 | BN13: 0 | BO13: 0 | BP13: 0 | BQ13: 0 | BR13: 0 | BS13: 0 | BT13: 0 | BU13: 0 | BV13: 0 | BW13: 0 | BX13: 0 | BY13: 0 | BZ13: 0 | CA13: 0 | CB13: 0 | CC13: 0 | CD13: 0 | CE13: 0 | CF13: 0 | CG13: 0 | CH13: 0 | CI13: 0 | CJ13: 0 | CK13: 0 | CL13: 0 | CM13: 0 | CN13: 0 | CO13: 0 | CP13: 0 | CQ13: 0 | CR13: 0 | CS13: 0 | CT13: 0 | CU13: 0 | CV13: 0 | CW13: 0 | CX13: 0 | CY13: 0 | CZ13: 0 | DA13: 0 | DB13: 0 | DC13: 0 | DD13: 0 | DE13: 0 | DF13: 0 | DG13: 0 | DH13: 0 | DI13: 0 | DJ13: 0 | DK13: 0 | DL13: 0 | DM13: 0 | DN13: 0 | DO13: 0 | DP13: 0 | DQ13: 0 | DR13: 0 | DS13: 0 | DT13: =SUM(X13:DS13) -> 0
V14: TOTAL UNIDADES | X14: =SUM(X9:X13) -> 2 | Y14: =SUM(Y9:Y13) -> 5 | Z14: =SUM(Z9:Z13) -> 7 | AA14: =SUM(AA9:AA13) -> 8 | AB14: =SUM(AB9:AB13) -> 9 | AC14: =SUM(AC9:AC13) -> 10 | AD14: =SUM(AD9:AD13) -> 10 | AE14: =SUM(AE9:AE13) -> 10 | ... DT14: =SUM(DT9:DT13) -> 100
A15: VIVIENDA | H15: PATIO | K15: PARQUEADERO
A16: No. Dep | B16: Torre / Manzana | C16: Tipo | D16: # Dormitorios | E16: m2 Unidad | F16: m2 Porche | G16: m2 Vendibles | H16: m2 Patio | I16: PVP m2 Patio | J16: PVP Patio | K16: No. Parqueadero | L16: Ubicación | M16: PVP Parqueadero | N16: PVP m2 Inmueble | O16: Valor Inmueble | P16: PVPTOTAL x m2 | Q16: % | R16: Reserva | S16: % | T16: Entrada | U16: Meses Aportes | V16: % | W16: Crédito Hipotecario | X16: 1 | Y16: 2 | Z16: 3 | AA16: 4 | AB16: 5 | AC16: 6 | AD16: 7 | AE16: 8 | AF16: 9 | AG16: 10 | AH16: 11 | AI16: 12 | AJ16: 13 | AK16: 14 | AL16: 15 | AM16: 16 | AN16: 17 | AO16: 18 | AP16: 19 | AQ16: 20 | AR16: 21 | AS16: 22 | AT16: 23 | AU16: 24 | AV16: 25 | AW16: 26 | AX16: 27 | AY16: 28 | AZ16: 29 | BA16: 30 | BB16: 31 | BC16: 32 | BD16: 33 | BE16: 34 | BF16: 35 | BG16: 36 | BH16: 37 | BI16: 38 | BJ16: 39 | BK16: 40 | BL16: 41 | BM16: 42 | BN16: 43 | BO16: 44 | BP16: 45 | BQ16: 46 | BR16: 47 | BS16: 48 | BT16: 49 | BU16: 50 | BV16: 51 | BW16: 52 | BX16: 53 | BY16: 54 | BZ16: 55 | CA16: 56 | CB16: 57 | CC16: 58 | CD16: 59 | CE16: 60 | CF16: 61 | CG16: 62 | CH16: 63 | CI16: 64 | CJ16: 65 | CK16: 66 | CL16: 67 | CM16: 68 | CN16: 69 | CO16: 70 | CP16: 71 | CQ16: 72 | CR16: 73 | CS16: 74 | CT16: 75 | CU16: 76 | CV16: 77 | CW16: 78 | CX16: 79 | CY16: 80 | CZ16: 81 | DA16: 82 | DB16: 83 | DC16: 84 | DD16: 85 | DE16: 86 | DF16: 87 | DG16: 88 | DH16: 89 | DI16: 90 | DJ16: 91 | DK16: 92 | DL16: 93 | DM16: 94 | DN16: 95 | DO16: 96 | DP16: 97 | DQ16: 98 | DR16: 99 | DS16: 100 | DT16: TOTAL | DU16: CONTROL
A17: Casa 001 | C17: B | E17: 74.01 | F17: 1.08 | G17: =+E17+F17 -> 75.09 | H17: 9.06 | I17: =N17*15% -> 149.1 | J17: =H17*I17 -> 1350.846 | K17: P014 | L17: Cercana | M17: 6000 | N17: 994 | O17: =+ROUND((G17*N17),2)+J17+M17 -> 81990.306 | P17: =O17/(G17) -> 1091.8938 | Q17: 0.01 | R17: =O17*Q17 -> 819.90306 | S17: 0.04 | T17: =O17*S17 -> 3279.6122 | U17: =COUNTIF(X17:DS17,">0")-2 -> 5 | V17: 0.95 | W17: =+O17*V17 -> 77890.791 | X17: =+$R17 -> 819.90306 | Y17: =+$T17/5 -> 655.92245 | Z17: =+$T17/5 -> 655.92245 | AA17: =+$T17/5 -> 655.92245 | AB17: =+$T17/5 -> 655.92245 | AC17: =+$T17/5 -> 655.92245 | AD17: =+$W17 -> 77890.791 | AE17: 0 | AF17: 0 | AG17: 0 | AH17: 0 | AI17: 0 | AJ17: 0 | AK17: 0 | AL17: 0 | AM17: 0 | AN17: 0 | AO17: 0 | AP17: 0 | AQ17: 0 | AR17: 0 | AS17: 0 | AT17: 0 | AU17: 0 | AV17: 0 | AW17: 0 | AX17: 0 | AY17: 0 | AZ17: 0 | BA17: 0 | BB17: 0 | BC17: 0 | BD17: 0 | BE17: 0 | BF17: 0 | BG17: 0 | BH17: 0 | BI17: 0 | BJ17: 0 | BK17: 0 | BL17: 0 | BM17: 0 | BN17: 0 | BO17: 0 | BP17: 0 | BQ17: 0 | BR17: 0 | BS17: 0 | BT17: 0 | BU17: 0 | BV17: 0 | BW17: 0 | BX17: 0 | BY17: 0 | BZ17: 0 | CA17: 0 | CB17: 0 | CC17: 0 | CD17: 0 | CE17: 0 | CF17: 0 | CG17: 0 | CH17: 0 | CI17: 0 | CJ17: 0 | CK17: 0 | CL17: 0 | CM17: 0 | CN17: 0 | CO17: 0 | CP17: 0 | CQ17: 0 | CR17: 0 | CS17: 0 | CT17: 0 | CU17: 0 | CV17: 0 | CW17: 0 | CX17: 0 | CY17: 0 | CZ17: 0 | DA17: 0 | DB17: 0 | DC17: 0 | DD17: 0 | DE17: 0 | DF17: 0 | DG17: 0 | DH17: 0 | DI17: 0 | DJ17: 0 | DK17: 0 | DL17: 0 | DM17: 0 | DN17: 0 | DO17: 0 | DP17: 0 | DQ17: 0 | DR17: 0 | DS17: 0 | DT17: =SUM(X17:DR17) -> 81990.306 | DU17: =+O17-DT17 -> 0 | DW17: =O17=DT17 -> TRUE
A18: Casa 002 | C18: B | E18: =$E$17 -> 74.01 | F18: =$F$17 -> 1.08 | G18: =+E18+F18 -> 75.09 | H18: =$H$17 -> 9.06 | I18: =$I$17 -> 149.1 | J18: =H18*I18 -> 1350.846 | K18: P015 | L18: Cercana | M18: 6000 | N18: =+$N$17 -> 994 | O18: =+ROUND((G18*N18),2)+J18+M18 -> 81990.306 | P18: =O18/(G18) -> 1091.8938 | Q18: 0.01 | R18: =O18*Q18 -> 819.90306 | S18: 0.04 | T18: =O18*S18 -> 3279.6122 | U18: =COUNTIF(X18:DS18,">0")-2 -> 5 | V18: 0.95 | W18: =+O18*V18 -> 77890.791 | Y18: =+$R18 -> 819.90306 | Z18: =+$T18/5 -> 655.92245 | AA18: =+Z18 -> 655.92245 | AB18: =+AA18 -> 655.92245 | AC18: =+AB18 -> 655.92245 | AD18: =+AC18 -> 655.92245 | AE18: =+$W18 -> 77890.791 | AF18: 0 | AG18: 0 | AH18: 0 | AI18: 0 | AJ18: 0 | AK18: 0 | AL18: 0 | AM18: 0 | AN18: 0 | AO18: 0 | AP18: 0 | AQ18: 0 | AR18: 0 | AS18: 0 | AT18: 0 | AU18: 0 | AV18: 0 | AW18: 0 | AX18: 0 | AY18: 0 | AZ18: 0 | BA18: 0 | BB18: 0 | BC18: 0 | BD18: 0 | BE18: 0 | BF18: 0 | BG18: 0 | BH18: 0 | BI18: 0 | BJ18: 0 | BK18: 0 | BL18: 0 | BM18: 0 | BN18: 0 | BO18: 0 | BP18: 0 | BQ18: 0 | BR18: 0 | BS18: 0 | BT18: 0 | BU18: 0 | BV18: 0 | BW18: 0 | BX18: 0 | BY18: 0 | BZ18: 0 | CA18: 0 | CB18: 0 | CC18: 0 | CD18: 0 | CE18: 0 | CF18: 0 | CG18: 0 | CH18: 0 | CI18: 0 | CJ18: 0 | CK18: 0 | CL18: 0 | CM18: 0 | CN18: 0 | CO18: 0 | CP18: 0 | CQ18: 0 | CR18: 0 | CS18: 0 | CT18: 0 | CU18: 0 | CV18: 0 | CW18: 0 | CX18: 0 | CY18: 0 | CZ18: 0 | DA18: 0 | DB18: 0 | DC18: 0 | DD18: 0 | DE18: 0 | DF18: 0 | DG18: 0 | DH18: 0 | DI18: 0 | DJ18: 0 | DK18: 0 | DL18: 0 | DM18: 0 | DN18: 0 | DO18: 0 | DP18: 0 | DQ18: 0 | DR18: 0 | DS18: 0 | DT18: =SUM(X18:DR18) -> 81990.306 | DU18: =+O18-DT18 -> 0 | DW18: =O18=DT18 -> TRUE
A19: Casa 003 | C19: B | E19: =$E$17 -> 74.01 | F19: =$F$17 -> 1.08 | G19: =+E19+F19 -> 75.09 | H19: =$H$17 -> 9.06 | I19: =$I$17 -> 149.1 | J19: =H19*I19 -> 1350.846 | K19: P016 | L19: Cercana | M19: 6000 | N19: =+$N$17 -> 994 | O19: =+ROUND((G19*N19),2)+J19+M19 -> 81990.306 | P19: =O19/(G19) -> 1091.8938 | Q19: 0.01 | R19: =O19*Q19 -> 819.90306 | S19: 0.04 | T19: =O19*S19 -> 3279.6122 | U19: =COUNTIF(X19:DS19,">0")-2 -> 3 | V19: 0.95 | W19: =+O19*V19 -> 77890.791 | Y19: =+$R19 -> 819.90306 | Z19: =+$T19/3 -> 1093.2041 | AA19: =+Z19 -> 1093.2041 | AB19: =+AA19 -> 1093.2041 | AC19: =+$W19 -> 77890.791 | AD19: 0 | AE19: 0 | AF19: 0 | AG19: 0 | AH19: 0 | AI19: 0 | AJ19: 0 | AK19: 0 | AL19: 0 | AM19: 0 | AN19: 0 | AO19: 0 | AP19: 0 | AQ19: 0 | AR19: 0 | AS19: 0 | AT19: 0 | AU19: 0 | AV19: 0 | AW19: 0 | AX19: 0 | AY19: 0 | AZ19: 0 | BA19: 0 | BB19: 0 | BC19: 0 | BD19: 0 | BE19: 0 | BF19: 0 | BG19: 0 | BH19: 0 | BI19: 0 | BJ19: 0 | BK19: 0 | BL19: 0 | BM19: 0 | BN19: 0 | BO19: 0 | BP19: 0 | BQ19: 0 | BR19: 0 | BS19: 0 | BT19: 0 | BU19: 0 | BV19: 0 | BW19: 0 | BX19: 0 | BY19: 0 | BZ19: 0 | CA19: 0 | CB19: 0 | CC19: 0 | CD19: 0 | CE19: 0 | CF19: 0 | CG19: 0 | CH19: 0 | CI19: 0 | CJ19: 0 | CK19: 0 | CL19: 0 | CM19: 0 | CN19: 0 | CO19: 0 | CP19: 0 | CQ19: 0 | CR19: 0 | CS19: 0 | CT19: 0 | CU19: 0 | CV19: 0 | CW19: 0 | CX19: 0 | CY19: 0 | CZ19: 0 | DA19: 0 | DB19: 0 | DC19: 0 | DD19: 0 | DE19: 0 | DF19: 0 | DG19: 0 | DH19: 0 | DI19: 0 | DJ19: 0 | DK19: 0 | DL19: 0 | DM19: 0 | DN19: 0 | DO19: 0 | DP19: 0 | DQ19: 0 | DR19: 0 | DS19: 0 | DT19: =SUM(X19:DR19) -> 81990.306 | DU19: =+O19-DT19 -> 0 | DW19: =O19=DT19 -> TRUE
A20: Casa 004 | C20: B | E20: =$E$17 -> 74.01 | F20: =$F$17 -> 1.08 | G20: =+E20+F20 -> 75.09 | H20: =$H$17 -> 9.06 | I20: =$I$17 -> 149.1 | J20: =H20*I20 -> 1350.846 | K20: P017 | L20: Cercana | M20: 6000 | N20: =+$N$17 -> 994 | O20: =+ROUND((G20*N20),2)+J20+M20 -> 81990.306 | P20: =O20/(G20) -> 1091.8938 | Q20: 0.01 | R20: =O20*Q20 -> 819.90306 | S20: 0.04 | T20: =O20*S20 -> 3279.6122 | U20: =COUNTIF(X20:DS20,">0")-2 -> 5 | V20: 0.95 | W20: =+O20*V20 -> 77890.791 | Z20: =+$R20 -> 819.90306 | AA20: =+$T20/5 -> 655.92245 | AB20: =+AA20 -> 655.92245 | AC20: =+AB20 -> 655.92245 | AD20: =+AC20 -> 655.92245 | AE20: =+AD20 -> 655.92245 | AF20: =+$W20 -> 77890.791 | AG20: 0 | AH20: 0 | AI20: 0 | AJ20: 0 | AK20: 0 | AL20: 0 | AM20: 0 | AN20: 0 | AO20: 0 | AP20: 0 | AQ20: 0 | AR20: 0 | AS20: 0 | AT20: 0 | AU20: 0 | AV20: 0 | AW20: 0 | AX20: 0 | AY20: 0 | AZ20: 0 | BA20: 0 | BB20: 0 | BC20: 0 | BD20: 0 | BE20: 0 | BF20: 0 | BG20: 0 | BH20: 0 | BI20: 0 | BJ20: 0 | BK20: 0 | BL20: 0 | BM20: 0 | BN20: 0 | BO20: 0 | BP20: 0 | BQ20: 0 | BR20: 0 | BS20: 0 | BT20: 0 | BU20: 0 | BV20: 0 | BW20: 0 | BX20: 0 | BY20: 0 | BZ20: 0 | CA20: 0 | CB20: 0 | CC20: 0 | CD20: 0 | CE20: 0 | CF20: 0 | CG20: 0 | CH20: 0 | CI20: 0 | CJ20: 0 | CK20: 0 | CL20: 0 | CM20: 0 | CN20: 0 | CO20: 0 | CP20: 0 | CQ20: 0 | CR20: 0 | CS20: 0 | CT20: 0 | CU20: 0 | CV20: 0 | CW20: 0 | CX20: 0 | CY20: 0 | CZ20: 0 | DA20: 0 | DB20: 0 | DC20: 0 | DD20: 0 | DE20: 0 | DF20: 0 | DG20: 0 | DH20: 0 | DI20: 0 | DJ20: 0 | DK20: 0 | DL20: 0 | DM20: 0 | DN20: 0 | DO20: 0 | DP20: 0 | DQ20: 0 | DR20: 0 | DS20: 0 | DT20: =SUM(X20:DR20) -> 81990.306 | DU20: =+O20-DT20 -> 0 | DW20: =O20=DT20 -> TRUE
A21: Casa 005 | C21: B | E21: =$E$17 -> 74.01 | F21: =$F$17 -> 1.08 | G21: =+E21+F21 -> 75.09 | H21: =$H$17 -> 9.06 | I21: =$I$17 -> 149.1 | J21: =H21*I21 -> 1350.846 | K21: P018 | L21: Cercana | M21: 6000 | N21: =+$N$17 -> 994 | O21: =+ROUND((G21*N21),2)+J21+M21 -> 81990.306 | P21: =O21/(G21) -> 1091.8938 | Q21: 0.01 | R21: =O21*Q21 -> 819.90306 | S21: 0.04 | T21: =O21*S21 -> 3279.6122 | U21: =COUNTIF(X21:DS21,">0")-2 -> 3 | V21: 0.95 | W21: =+O21*V21 -> 77890.791 | Z21: =+$R21 -> 819.90306 | AA21: =+$T21/3 -> 1093.2041 | AB21: =+AA21 -> 1093.2041 | AC21: =+AB21 -> 1093.2041 | AD21: =+$W21 -> 77890.791 | AE21: 0 | AF21: 0 | AG21: 0 | AH21: 0 | AI21: 0 | AJ21: 0 | AK21: 0 | AL21: 0 | AM21: 0 | AN21: 0 | AO21: 0 | AP21: 0 | AQ21: 0 | AR21: 0 | AS21: 0 | AT21: 0 | AU21: 0 | AV21: 0 | AW21: 0 | AX21: 0 | AY21: 0 | AZ21: 0 | BA21: 0 | BB21: 0 | BC21: 0 | BD21: 0 | BE21: 0 | BF21: 0 | BG21: 0 | BH21: 0 | BI21: 0 | BJ21: 0 | BK21: 0 | BL21: 0 | BM21: 0 | BN21: 0 | BO21: 0 | BP21: 0 | BQ21: 0 | BR21: 0 | BS21: 0 | BT21: 0 | BU21: 0 | BV21: 0 | BW21: 0 | BX21: 0 | BY21: 0 | BZ21: 0 | CA21: 0 | CB21: 0 | CC21: 0 | CD21: 0 | CE21: 0 | CF21: 0 | CG21: 0 | CH21: 0 | CI21: 0 | CJ21: 0 | CK21: 0 | CL21: 0 | CM21: 0 | CN21: 0 | CO21: 0 | CP21: 0 | CQ21: 0 | CR21: 0 | CS21: 0 | CT21: 0 | CU21: 0 | CV21: 0 | CW21: 0 | CX21: 0 | CY21: 0 | CZ21: 0 | DA21: 0 | DB21: 0 | DC21: 0 | DD21: 0 | DE21: 0 | DF21: 0 | DG21: 0 | DH21: 0 | DI21: 0 | DJ21: 0 | DK21: 0 | DL21: 0 | DM21: 0 | DN21: 0 | DO21: 0 | DP21: 0 | DQ21: 0 | DR21: 0 | DS21: 0 | DT21: =SUM(X21:DR21) -> 81990.306 | DU21: =+O21-DT21 -> 0 | DW21: =O21=DT21 -> TRUE
A22: Casa 006 | C22: B | E22: =$E$17 -> 74.01 | F22: =$F$17 -> 1.08 | G22: =+E22+F22 -> 75.09 | H22: =$H$17 -> 9.06 | I22: =$I$17 -> 149.1 | J22: =H22*I22 -> 1350.846 | K22: P025 | L22: Al frente | M22: 7000 | N22: =+$N$17 -> 994 | O22: =+ROUND((G22*N22),2)+J22+M22 -> 82990.306 | P22: =O22/(G22) -> 1105.2112 | Q22: 0.01 | R22: =O22*Q22 -> 829.90306 | S22: 0.04 | T22: =O22*S22 -> 3319.6122 | U22: =COUNTIF(X22:DS22,">0")-2 -> 5 | V22: 0.95 | W22: =+O22*V22 -> 78840.791 | AA22: =+$R22 -> 829.90306 | AB22: =+$T22/5 -> 663.92245 | AC22: =+AB22 -> 663.92245 | AD22: =+AC22 -> 663.92245 | AE22: =+AD22 -> 663.92245 | AF22: =+AE22 -> 663.92245 | AG22: =+$W22 -> 78840.791 | AH22: 0 | AI22: 0 | AJ22: 0 | AK22: 0 | AL22: 0 | AM22: 0 | AN22: 0 | AO22: 0 | AP22: 0 | AQ22: 0 | AR22: 0 | AS22: 0 | AT22: 0 | AU22: 0 | AV22: 0 | AW22: 0 | AX22: 0 | AY22: 0 | AZ22: 0 | BA22: 0 | BB22: 0 | BC22: 0 | BD22: 0 | BE22: 0 | BF22: 0 | BG22: 0 | BH22: 0 | BI22: 0 | BJ22: 0 | BK22: 0 | BL22: 0 | BM22: 0 | BN22: 0 | BO22: 0 | BP22: 0 | BQ22: 0 | BR22: 0 | BS22: 0 | BT22: 0 | BU22: 0 | BV22: 0 | BW22: 0 | BX22: 0 | BY22: 0 | BZ22: 0 | CA22: 0 | CB22: 0 | CC22: 0 | CD22: 0 | CE22: 0 | CF22: 0 | CG22: 0 | CH22: 0 | CI22: 0 | CJ22: 0 | CK22: 0 | CL22: 0 | CM22: 0 | CN22: 0 | CO22: 0 | CP22: 0 | CQ22: 0 | CR22: 0 | CS22: 0 | CT22: 0 | CU22: 0 | CV22: 0 | CW22: 0 | CX22: 0 | CY22: 0 | CZ22: 0 | DA22: 0 | DB22: 0 | DC22: 0 | DD22: 0 | DE22: 0 | DF22: 0 | DG22: 0 | DH22: 0 | DI22: 0 | DJ22: 0 | DK22: 0 | DL22: 0 | DM22: 0 | DN22: 0 | DO22: 0 | DP22: 0 | DQ22: 0 | DR22: 0 | DS22: 0 | DT22: =SUM(X22:DR22) -> 82990.306 | DU22: =+O22-DT22 -> 0 | DW22: =O22=DT22 -> TRUE
A23: Casa 007 | C23: B | E23: =$E$17 -> 74.01 | F23: =$F$17 -> 1.08 | G23: =+E23+F23 -> 75.09 | H23: =$H$17 -> 9.06 | I23: =$I$17 -> 149.1 | J23: =H23*I23 -> 1350.846 | K23: P026 | L23: Al frente | M23: 7000 | N23: =+$N$17 -> 994 | O23: =+ROUND((G23*N23),2)+J23+M23 -> 82990.306 | P23: =O23/(G23) -> 1105.2112 | Q23: 0.01 | R23: =O23*Q23 -> 829.90306 | S23: 0.04 | T23: =O23*S23 -> 3319.6122 | U23: =COUNTIF(X23:DS23,">0")-2 -> 3 | V23: 0.95 | W23: =+O23*V23 -> 78840.791 | AA23: =+$R23 -> 829.90306 | AB23: =+$T23/3 -> 1106.5374 | AC23: =+AB23 -> 1106.5374 | AD23: =+AC23 -> 1106.5374 | AE23: =+$W23 -> 78840.791 | AF23: 0 | AG23: 0 | AH23: 0 | AI23: 0 | AJ23: 0 | AK23: 0 | AL23: 0 | AM23: 0 | AN23: 0 | AO23: 0 | AP23: 0 | AQ23: 0 | AR23: 0 | AS23: 0 | AT23: 0 | AU23: 0 | AV23: 0 | AW23: 0 | AX23: 0 | AY23: 0 | AZ23: 0 | BA23: 0 | BB23: 0 | BC23: 0 | BD23: 0 | BE23: 0 | BF23: 0 | BG23: 0 | BH23: 0 | BI23: 0 | BJ23: 0 | BK23: 0 | BL23: 0 | BM23: 0 | BN23: 0 | BO23: 0 | BP23: 0 | BQ23: 0 | BR23: 0 | BS23: 0 | BT23: 0 | BU23: 0 | BV23: 0 | BW23: 0 | BX23: 0 | BY23: 0 | BZ23: 0 | CA23: 0 | CB23: 0 | CC23: 0 | CD23: 0 | CE23: 0 | CF23: 0 | CG23: 0 | CH23: 0 | CI23: 0 | CJ23: 0 | CK23: 0 | CL23: 0 | CM23: 0 | CN23: 0 | CO23: 0 | CP23: 0 | CQ23: 0 | CR23: 0 | CS23: 0 | CT23: 0 | CU23: 0 | CV23: 0 | CW23: 0 | CX23: 0 | CY23: 0 | CZ23: 0 | DA23: 0 | DB23: 0 | DC23: 0 | DD23: 0 | DE23: 0 | DF23: 0 | DG23: 0 | DH23: 0 | DI23: 0 | DJ23: 0 | DK23: 0 | DL23: 0 | DM23: 0 | DN23: 0 | DO23: 0 | DP23: 0 | DQ23: 0 | DR23: 0 | DS23: 0 | DT23: =SUM(X23:DR23) -> 82990.306 | DU23: =+O23-DT23 -> 0 | DW23: =O23=DT23 -> TRUE
A24: Casa 008 | C24: B | E24: =$E$17 -> 74.01 | F24: =$F$17 -> 1.08 | G24: =+E24+F24 -> 75.09 | H24: =$H$17 -> 9.06 | I24: =$I$17 -> 149.1 | J24: =H24*I24 -> 1350.846 | K24: P027 | L24: Al frente | M24: 7000 | N24: =+$N$17 -> 994 | O24: =+ROUND((G24*N24),2)+J24+M24 -> 82990.306 | P24: =O24/(G24) -> 1105.2112 | Q24: 0.01 | R24: =O24*Q24 -> 829.90306 | S24: 0.04 | T24: =O24*S24 -> 3319.6122 | U24: =COUNTIF(X24:DS24,">0")-2 -> 5 | V24: 0.95 | W24: =+O24*V24 -> 78840.791 | AB24: =+$R24 -> 829.90306 | AC24: =+$T24/5 -> 663.92245 | AD24: =+AC24 -> 663.92245 | AE24: =+AD24 -> 663.92245 | AF24: =+AE24 -> 663.92245 | AG24: =+AF24 -> 663.92245 | AH24: =+$W24 -> 78840.791 | AI24: 0 | AJ24: 0 | AK24: 0 | AL24: 0 | AM24: 0 | AN24: 0 | AO24: 0 | AP24: 0 | AQ24: 0 | AR24: 0 | AS24: 0 | AT24: 0 | AU24: 0 | AV24: 0 | AW24: 0 | AX24: 0 | AY24: 0 | AZ24: 0 | BA24: 0 | BB24: 0 | BC24: 0 | BD24: 0 | BE24: 0 | BF24: 0 | BG24: 0 | BH24: 0 | BI24: 0 | BJ24: 0 | BK24: 0 | BL24: 0 | BM24: 0 | BN24: 0 | BO24: 0 | BP24: 0 | BQ24: 0 | BR24: 0 | BS24: 0 | BT24: 0 | BU24: 0 | BV24: 0 | BW24: 0 | BX24: 0 | BY24: 0 | BZ24: 0 | CA24: 0 | CB24: 0 | CC24: 0 | CD24: 0 | CE24: 0 | CF24: 0 | CG24: 0 | CH24: 0 | CI24: 0 | CJ24: 0 | CK24: 0 | CL24: 0 | CM24: 0 | CN24: 0 | CO24: 0 | CP24: 0 | CQ24: 0 | CR24: 0 | CS24: 0 | CT24: 0 | CU24: 0 | CV24: 0 | CW24: 0 | CX24: 0 | CY24: 0 | CZ24: 0 | DA24: 0 | DB24: 0 | DC24: 0 | DD24: 0 | DE24: 0 | DF24: 0 | DG24: 0 | DH24: 0 | DI24: 0 | DJ24: 0 | DK24: 0 | DL24: 0 | DM24: 0 | DN24: 0 | DO24: 0 | DP24: 0 | DQ24: 0 | DR24: 0 | DS24: 0 | DT24: =SUM(X24:DR24) -> 82990.306 | DU24: =+O24-DT24 -> 0 | DW24: =O24=DT24 -> TRUE
A25: Casa 009 | C25: B | E25: =$E$17 -> 74.01 | F25: =$F$17 -> 1.08 | G25: =+E25+F25 -> 75.09 | H25: =$H$17 -> 9.06 | I25: =$I$17 -> 149.1 | J25: =H25*I25 -> 1350.846 | K25: P028 | L25: Al frente | M25: 7000 | N25: =+$N$17 -> 994 | O25: =+ROUND((G25*N25),2)+J25+M25 -> 82990.306 | P25: =O25/(G25) -> 1105.2112 | Q25: 0.01 | R25: =O25*Q25 -> 829.90306 | S25: 0.04 | T25: =O25*S25 -> 3319.6122 | U25: =COUNTIF(X25:DS25,">0")-2 -> 3 | V25: 0.95 | W25: =+O25*V25 -> 78840.791 | AB25: =+$R25 -> 829.90306 | AC25: =+$T25/3 -> 1106.5374 | AD25: =+AC25 -> 1106.5374 | AE25: =+AD25 -> 1106.5374 | AF25: =+$W25 -> 78840.791 | AG25: 0 | AH25: 0 | AI25: 0 | AJ25: 0 | AK25: 0 | AL25: 0 | AM25: 0 | AN25: 0 | AO25: 0 | AP25: 0 | AQ25: 0 | AR25: 0 | AS25: 0 | AT25: 0 | AU25: 0 | AV25: 0 | AW25: 0 | AX25: 0 | AY25: 0 | AZ25: 0 | BA25: 0 | BB25: 0 | BC25: 0 | BD25: 0 | BE25: 0 | BF25: 0 | BG25: 0 | BH25: 0 | BI25: 0 | BJ25: 0 | BK25: 0 | BL25: 0 | BM25: 0 | BN25: 0 | BO25: 0 | BP25: 0 | BQ25: 0 | BR25: 0 | BS25: 0 | BT25: 0 | BU25: 0 | BV25: 0 | BW25: 0 | BX25: 0 | BY25: 0 | BZ25: 0 | CA25: 0 | CB25: 0 | CC25: 0 | CD25: 0 | CE25: 0 | CF25: 0 | CG25: 0 | CH25: 0 | CI25: 0 | CJ25: 0 | CK25: 0 | CL25: 0 | CM25: 0 | CN25: 0 | CO25: 0 | CP25: 0 | CQ25: 0 | CR25: 0 | CS25: 0 | CT25: 0 | CU25: 0 | CV25: 0 | CW25: 0 | CX25: 0 | CY25: 0 | CZ25: 0 | DA25: 0 | DB25: 0 | DC25: 0 | DD25: 0 | DE25: 0 | DF25: 0 | DG25: 0 | DH25: 0 | DI25: 0 | DJ25: 0 | DK25: 0 | DL25: 0 | DM25: 0 | DN25: 0 | DO25: 0 | DP25: 0 | DQ25: 0 | DR25: 0 | DS25: 0 | DT25: =SUM(X25:DR25) -> 82990.306 | DU25: =+O25-DT25 -> 0 | DW25: =O25=DT25 -> TRUE
A26: Casa 010 | C26: B | E26: =$E$17 -> 74.01 | F26: =$F$17 -> 1.08 | G26: =+E26+F26 -> 75.09 | H26: =$H$17 -> 9.06 | I26: =$I$17 -> 149.1 | J26: =H26*I26 -> 1350.846 | K26: P029 | L26: En Isla | M26: 5000 | N26: =+$N$17 -> 994 | O26: =+ROUND((G26*N26),2)+J26+M26 -> 80990.306 | P26: =O26/(G26) -> 1078.5765 | Q26: 0.01 | R26: =O26*Q26 -> 809.90306 | S26: 0.04 | T26: =O26*S26 -> 3239.6122 | U26: =COUNTIF(X26:DS26,">0")-2 -> 5 | V26: 0.95 | W26: =+O26*V26 -> 76940.791 | AC26: =+$R26 -> 809.90306 | AD26: =+$T26/5 -> 647.92245 | AE26: =+AD26 -> 647.92245 | AF26: =+AE26 -> 647.92245 | AG26: =+AF26 -> 647.92245 | AH26: =+AG26 -> 647.92245 | AI26: =+$W26 -> 76940.791 | AJ26: 0 | AK26: 0 | AL26: 0 | AM26: 0 | AN26: 0 | AO26: 0 | AP26: 0 | AQ26: 0 | AR26: 0 | AS26: 0 | AT26: 0 | AU26: 0 | AV26: 0 | AW26: 0 | AX26: 0 | AY26: 0 | AZ26: 0 | BA26: 0 | BB26: 0 | BC26: 0 | BD26: 0 | BE26: 0 | BF26: 0 | BG26: 0 | BH26: 0 | BI26: 0 | BJ26: 0 | BK26: 0 | BL26: 0 | BM26: 0 | BN26: 0 | BO26: 0 | BP26: 0 | BQ26: 0 | BR26: 0 | BS26: 0 | BT26: 0 | BU26: 0 | BV26: 0 | BW26: 0 | BX26: 0 | BY26: 0 | BZ26: 0 | CA26: 0 | CB26: 0 | CC26: 0 | CD26: 0 | CE26: 0 | CF26: 0 | CG26: 0 | CH26: 0 | CI26: 0 | CJ26: 0 | CK26: 0 | CL26: 0 | CM26: 0 | CN26: 0 | CO26: 0 | CP26: 0 | CQ26: 0 | CR26: 0 | CS26: 0 | CT26: 0 | CU26: 0 | CV26: 0 | CW26: 0 | CX26: 0 | CY26: 0 | CZ26: 0 | DA26: 0 | DB26: 0 | DC26: 0 | DD26: 0 | DE26: 0 | DF26: 0 | DG26: 0 | DH26: 0 | DI26: 0 | DJ26: 0 | DK26: 0 | DL26: 0 | DM26: 0 | DN26: 0 | DO26: 0 | DP26: 0 | DQ26: 0 | DR26: 0 | DS26: 0 | DT26: =SUM(X26:DR26) -> 80990.306 | DU26: =+O26-DT26 -> 0 | DW26: =O26=DT26 -> TRUE
A27: Casa 011 | C27: B | E27: =$E$17 -> 74.01 | F27: =$F$17 -> 1.08 | G27: =+E27+F27 -> 75.09 | H27: =$H$17 -> 9.06 | I27: =$I$17 -> 149.1 | J27: =H27*I27 -> 1350.846 | K27: P030 | L27: En Isla | M27: 5000 | N27: =+$N$17 -> 994 | O27: =+ROUND((G27*N27),2)+J27+M27 -> 80990.306 | P27: =O27/(G27) -> 1078.5765 | Q27: 0.01 | R27: =O27*Q27 -> 809.90306 | S27: 0.04 | T27: =O27*S27 -> 3239.6122 | U27: =COUNTIF(X27:DS27,">0")-2 -> 3 | V27: 0.95 | W27: =+O27*V27 -> 76940.791 | AC27: =+$R27 -> 809.90306 | AD27: =+$T27/3 -> 1079.8707 | AE27: =+AD27 -> 1079.8707 | AF27: =+AE27 -> 1079.8707 | AG27: =+$W27 -> 76940.791 | AH27: 0 | AI27: 0 | AJ27: 0 | AK27: 0 | AL27: 0 | AM27: 0 | AN27: 0 | AO27: 0 | AP27: 0 | AQ27: 0 | AR27: 0 | AS27: 0 | AT27: 0 | AU27: 0 | AV27: 0 | AW27: 0 | AX27: 0 | AY27: 0 | AZ27: 0 | BA27: 0 | BB27: 0 | BC27: 0 | BD27: 0 | BE27: 0 | BF27: 0 | BG27: 0 | BH27: 0 | BI27: 0 | BJ27: 0 | BK27: 0 | BL27: 0 | BM27: 0 | BN27: 0 | BO27: 0 | BP27: 0 | BQ27: 0 | BR27: 0 | BS27: 0 | BT27: 0 | BU27: 0 | BV27: 0 | BW27: 0 | BX27: 0 | BY27: 0 | BZ27: 0 | CA27: 0 | CB27: 0 | CC27: 0 | CD27: 0 | CE27: 0 | CF27: 0 | CG27: 0 | CH27: 0 | CI27: 0 | CJ27: 0 | CK27: 0 | CL27: 0 | CM27: 0 | CN27: 0 | CO27: 0 | CP27: 0 | CQ27: 0 | CR27: 0 | CS27: 0 | CT27: 0 | CU27: 0 | CV27: 0 | CW27: 0 | CX27: 0 | CY27: 0 | CZ27: 0 | DA27: 0 | DB27: 0 | DC27: 0 | DD27: 0 | DE27: 0 | DF27: 0 | DG27: 0 | DH27: 0 | DI27: 0 | DJ27: 0 | DK27: 0 | DL27: 0 | DM27: 0 | DN27: 0 | DO27: 0 | DP27: 0 | DQ27: 0 | DR27: 0 | DS27: 0 | DT27: =SUM(X27:DR27) -> 80990.306 | DU27: =+O27-DT27 -> 0 | DW27: =O27=DT27 -> TRUE
A28: Casa 012 | C28: B | E28: =$E$17 -> 74.01 | F28: =$F$17 -> 1.08 | G28: =+E28+F28 -> 75.09 | H28: =$H$17 -> 9.06 | I28: =$I$17 -> 149.1 | J28: =H28*I28 -> 1350.846 | K28: P031 | L28: En Isla | M28: 5000 | N28: =+$N$17 -> 994 | O28: =+ROUND((G28*N28),2)+J28+M28 -> 80990.306 | P28: =O28/(G28) -> 1078.5765 | Q28: 0.01 | R28: =O28*Q28 -> 809.90306 | S28: 0.04 | T28: =O28*S28 -> 3239.6122 | U28: =COUNTIF(X28:DS28,">0")-2 -> 5 | V28: 0.95 | W28: =+O28*V28 -> 76940.791 | AD28: =+$R28 -> 809.90306 | AE28: =+$T28/5 -> 647.92245 | AF28: =+AE28 -> 647.92245 | AG28: =+AF28 -> 647.92245 | AH28: =+AG28 -> 647.92245 | AI28: =+AH28 -> 647.92245 | AJ28: =+$W28 -> 76940.791 | AK28: 0 | AL28: 0 | AM28: 0 | AN28: 0 | AO28: 0 | AP28: 0 | AQ28: 0 | AR28: 0 | AS28: 0 | AT28: 0 | AU28: 0 | AV28: 0 | AW28: 0 | AX28: 0 | AY28: 0 | AZ28: 0 | BA28: 0 | BB28: 0 | BC28: 0 | BD28: 0 | BE28: 0 | BF28: 0 | BG28: 0 | BH28: 0 | BI28: 0 | BJ28: 0 | BK28: 0 | BL28: 0 | BM28: 0 | BN28: 0 | BO28: 0 | BP28: 0 | BQ28: 0 | BR28: 0 | BS28: 0 | BT28: 0 | BU28: 0 | BV28: 0 | BW28: 0 | BX28: 0 | BY28: 0 | BZ28: 0 | CA28: 0 | CB28: 0 | CC28: 0 | CD28: 0 | CE28: 0 | CF28: 0 | CG28: 0 | CH28: 0 | CI28: 0 | CJ28: 0 | CK28: 0 | CL28: 0 | CM28: 0 | CN28: 0 | CO28: 0 | CP28: 0 | CQ28: 0 | CR28: 0 | CS28: 0 | CT28: 0 | CU28: 0 | CV28: 0 | CW28: 0 | CX28: 0 | CY28: 0 | CZ28: 0 | DA28: 0 | DB28: 0 | DC28: 0 | DD28: 0 | DE28: 0 | DF28: 0 | DG28: 0 | DH28: 0 | DI28: 0 | DJ28: 0 | DK28: 0 | DL28: 0 | DM28: 0 | DN28: 0 | DO28: 0 | DP28: 0 | DQ28: 0 | DR28: 0 | DS28: 0 | DT28: =SUM(X28:DR28) -> 80990.306 | DU28: =+O28-DT28 -> 0 | DW28: =O28=DT28 -> TRUE
A29: Casa 013 | C29: B | E29: =$E$17 -> 74.01 | F29: =$F$17 -> 1.08 | G29: =+E29+F29 -> 75.09 | H29: =$H$17 -> 9.06 | I29: =$I$17 -> 149.1 | J29: =H29*I29 -> 1350.846 | K29: P024 | L29: Cercana | M29: 6000 | N29: =+$N$17 -> 994 | O29: =+ROUND((G29*N29),2)+J29+M29 -> 81990.306 | P29: =O29/(G29) -> 1091.8938 | Q29: 0.01 | R29: =O29*Q29 -> 819.90306 | S29: 0.04 | T29: =O29*S29 -> 3279.6122 | U29: =COUNTIF(X29:DS29,">0")-2 -> 3 | V29: 0.95 | W29: =+O29*V29 -> 77890.791 | AD29: =+$R29 -> 819.90306 | AE29: =+$T29/3 -> 1093.2041 | AF29: =+AE29 -> 1093.2041 | AG29: =+AF29 -> 1093.2041 | AH29: =+$W29 -> 77890.791 | AI29: 0 | AJ29: 0 | AK29: 0 | AL29: 0 | AM29: 0 | AN29: 0 | AO29: 0 | AP29: 0 | AQ29: 0 | AR29: 0 | AS29: 0 | AT29: 0 | AU29: 0 | AV29: 0 | AW29: 0 | AX29: 0 | AY29: 0 | AZ29: 0 | BA29: 0 | BB29: 0 | BC29: 0 | BD29: 0 | BE29: 0 | BF29: 0 | BG29: 0 | BH29: 0 | BI29: 0 | BJ29: 0 | BK29: 0 | BL29: 0 | BM29: 0 | BN29: 0 | BO29: 0 | BP29: 0 | BQ29: 0 | BR29: 0 | BS29: 0 | BT29: 0 | BU29: 0 | BV29: 0 | BW29: 0 | BX29: 0 | BY29: 0 | BZ29: 0 | CA29: 0 | CB29: 0 | CC29: 0 | CD29: 0 | CE29: 0 | CF29: 0 | CG29: 0 | CH29: 0 | CI29: 0 | CJ29: 0 | CK29: 0 | CL29: 0 | CM29: 0 | CN29: 0 | CO29: 0 | CP29: 0 | CQ29: 0 | CR29: 0 | CS29: 0 | CT29: 0 | CU29: 0 | CV29: 0 | CW29: 0 | CX29: 0 | CY29: 0 | CZ29: 0 | DA29: 0 | DB29: 0 | DC29: 0 | DD29: 0 | DE29: 0 | DF29: 0 | DG29: 0 | DH29: 0 | DI29: 0 | DJ29: 0 | DK29: 0 | DL29: 0 | DM29: 0 | DN29: 0 | DO29: 0 | DP29: 0 | DQ29: 0 | DR29: 0 | DS29: 0 | DT29: =SUM(X29:DR29) -> 81990.306 | DU29: =+O29-DT29 -> 0 | DW29: =O29=DT29 -> TRUE
A30: Casa 014 | C30: B | E30: =$E$17 -> 74.01 | F30: =$F$17 -> 1.08 | G30: =+E30+F30 -> 75.09 | H30: =$H$17 -> 9.06 | I30: =$I$17 -> 149.1 | J30: =H30*I30 -> 1350.846 | K30: P023 | L30: Cercana | M30: 6000 | N30: =+$N$17 -> 994 | O30: =+ROUND((G30*N30),2)+J30+M30 -> 81990.306 | P30: =O30/(G30) -> 1091.8938 | Q30: 0.01 | R30: =O30*Q30 -> 819.90306 | S30: 0.04 | T30: =O30*S30 -> 3279.6122 | U30: =COUNTIF(X30:DS30,">0")-2 -> 5 | V30: 0.95 | W30: =+O30*V30 -> 77890.791 | AE30: =+$R30 -> 819.90306 | AF30: =+$T30/5 -> 655.92245 | AG30: =+AF30 -> 655.92245 | AH30: =+AG30 -> 655.92245 | AI30: =+AH30 -> 655.92245 | AJ30: =+AI30 -> 655.92245 | AK30: =+$W30 -> 77890.791 | AL30: 0 | AM30: 0 | AN30: 0 | AO30: 0 | AP30: 0 | AQ30: 0 | AR30: 0 | AS30: 0 | AT30: 0 | AU30: 0 | AV30: 0 | AW30: 0 | AX30: 0 | AY30: 0 | AZ30: 0 | BA30: 0 | BB30: 0 | BC30: 0 | BD30: 0 | BE30: 0 | BF30: 0 | BG30: 0 | BH30: 0 | BI30: 0 | BJ30: 0 | BK30: 0 | BL30: 0 | BM30: 0 | BN30: 0 | BO30: 0 | BP30: 0 | BQ30: 0 | BR30: 0 | BS30: 0 | BT30: 0 | BU30: 0 | BV30: 0 | BW30: 0 | BX30: 0 | BY30: 0 | BZ30: 0 | CA30: 0 | CB30: 0 | CC30: 0 | CD30: 0 | CE30: 0 | CF30: 0 | CG30: 0 | CH30: 0 | CI30: 0 | CJ30: 0 | CK30: 0 | CL30: 0 | CM30: 0 | CN30: 0 | CO30: 0 | CP30: 0 | CQ30: 0 | CR30: 0 | CS30: 0 | CT30: 0 | CU30: 0 | CV30: 0 | CW30: 0 | CX30: 0 | CY30: 0 | CZ30: 0 | DA30: 0 | DB30: 0 | DC30: 0 | DD30: 0 | DE30: 0 | DF30: 0 | DG30: 0 | DH30: 0 | DI30: 0 | DJ30: 0 | DK30: 0 | DL30: 0 | DM30: 0 | DN30: 0 | DO30: 0 | DP30: 0 | DQ30: 0 | DR30: 0 | DS30: 0 | DT30: =SUM(X30:DR30) -> 81990.306 | DU30: =+O30-DT30 -> 0 | DW30: =O30=DT30 -> TRUE
A31: Casa 015 | C31: B | E31: =$E$17 -> 74.01 | F31: =$F$17 -> 1.08 | G31: =+E31+F31 -> 75.09 | H31: =$H$17 -> 9.06 | I31: =$I$17 -> 149.1 | J31: =H31*I31 -> 1350.846 | K31: P022 | L31: Cercana | M31: 6000 | N31: =+$N$17 -> 994 | O31: =+ROUND((G31*N31),2)+J31+M31 -> 81990.306 | P31: =O31/(G31) -> 1091.8938 | Q31: 0.01 | R31: =O31*Q31 -> 819.90306 | S31: 0.04 | T31: =O31*S31 -> 3279.6122 | U31: =COUNTIF(X31:DS31,">0")-2 -> 3 | V31: 0.95 | W31: =+O31*V31 -> 77890.791 | AE31: =+$R31 -> 819.90306 | AF31: =+$T31/3 -> 1093.2041 | AG31: =+AF31 -> 1093.2041 | AH31: =+AG31 -> 1093.2041 | AI31: =+$W31 -> 77890.791 | AJ31: 0 | AK31: 0 | AL31: 0 | AM31: 0 | AN31: 0 | AO31: 0 | AP31: 0 | AQ31: 0 | AR31: 0 | AS31: 0 | AT31: 0 | AU31: 0 | AV31: 0 | AW31: 0 | AX31: 0 | AY31: 0 | AZ31: 0 | BA31: 0 | BB31: 0 | BC31: 0 | BD31: 0 | BE31: 0 | BF31: 0 | BG31: 0 | BH31: 0 | BI31: 0 | BJ31: 0 | BK31: 0 | BL31: 0 | BM31: 0 | BN31: 0 | BO31: 0 | BP31: 0 | BQ31: 0 | BR31: 0 | BS31: 0 | BT31: 0 | BU31: 0 | BV31: 0 | BW31: 0 | BX31: 0 | BY31: 0 | BZ31: 0 | CA31: 0 | CB31: 0 | CC31: 0 | CD31: 0 | CE31: 0 | CF31: 0 | CG31: 0 | CH31: 0 | CI31: 0 | CJ31: 0 | CK31: 0 | CL31: 0 | CM31: 0 | CN31: 0 | CO31: 0 | CP31: 0 | CQ31: 0 | CR31: 0 | CS31: 0 | CT31: 0 | CU31: 0 | CV31: 0 | CW31: 0 | CX31: 0 | CY31: 0 | CZ31: 0 | DA31: 0 | DB31: 0 | DC31: 0 | DD31: 0 | DE31: 0 | DF31: 0 | DG31: 0 | DH31: 0 | DI31: 0 | DJ31: 0 | DK31: 0 | DL31: 0 | DM31: 0 | DN31: 0 | DO31: 0 | DP31: 0 | DQ31: 0 | DR31: 0 | DS31: 0 | DT31: =SUM(X31:DR31) -> 81990.306 | DU31: =+O31-DT31 -> 0 | DW31: =O31=DT31 -> TRUE
A32: Casa 016 | C32: B | E32: =$E$17 -> 74.01 | F32: =$F$17 -> 1.08 | G32: =+E32+F32 -> 75.09 | H32: =$H$17 -> 9.06 | I32: =$I$17 -> 149.1 | J32: =H32*I32 -> 1350.846 | K32: P021 | L32: Cercana | M32: 6000 | N32: =+$N$17 -> 994 | O32: =+ROUND((G32*N32),2)+J32+M32 -> 81990.306 | P32: =O32/(G32) -> 1091.8938 | Q32: 0.01 | R32: =O32*Q32 -> 819.90306 | S32: 0.04 | T32: =O32*S32 -> 3279.6122 | U32: =COUNTIF(X32:DS32,">0")-2 -> 5 | V32: 0.95 | W32: =+O32*V32 -> 77890.791 | AF32: =+$R32 -> 819.90306 | AG32: =+$T32/5 -> 655.92245 | AH32: =+AG32 -> 655.92245 | AI32: =+AH32 -> 655.92245 | AJ32: =+AI32 -> 655.92245 | AK32: =+AJ32 -> 655.92245 | AL32: =+$W32 -> 77890.791 | AM32: 0 | AN32: 0 | AO32: 0 | AP32: 0 | AQ32: 0 | AR32: 0 | AS32: 0 | AT32: 0 | AU32: 0 | AV32: 0 | AW32: 0 | AX32: 0 | AY32: 0 | AZ32: 0 | BA32: 0 | BB32: 0 | BC32: 0 | BD32: 0 | BE32: 0 | BF32: 0 | BG32: 0 | BH32: 0 | BI32: 0 | BJ32: 0 | BK32: 0 | BL32: 0 | BM32: 0 | BN32: 0 | BO32: 0 | BP32: 0 | BQ32: 0 | BR32: 0 | BS32: 0 | BT32: 0 | BU32: 0 | BV32: 0 | BW32: 0 | BX32: 0 | BY32: 0 | BZ32: 0 | CA32: 0 | CB32: 0 | CC32: 0 | CD32: 0 | CE32: 0 | CF32: 0 | CG32: 0 | CH32: 0 | CI32: 0 | CJ32: 0 | CK32: 0 | CL32: 0 | CM32: 0 | CN32: 0 | CO32: 0 | CP32: 0 | CQ32: 0 | CR32: 0 | CS32: 0 | CT32: 0 | CU32: 0 | CV32: 0 | CW32: 0 | CX32: 0 | CY32: 0 | CZ32: 0 | DA32: 0 | DB32: 0 | DC32: 0 | DD32: 0 | DE32: 0 | DF32: 0 | DG32: 0 | DH32: 0 | DI32: 0 | DJ32: 0 | DK32: 0 | DL32: 0 | DM32: 0 | DN32: 0 | DO32: 0 | DP32: 0 | DQ32: 0 | DR32: 0 | DS32: 0 | DT32: =SUM(X32:DR32) -> 81990.306 | DU32: =+O32-DT32 -> 0 | DW32: =O32=DT32 -> TRUE
A33: Casa 017 | C33: B | E33: =$E$17 -> 74.01 | F33: =$F$17 -> 1.08 | G33: =+E33+F33 -> 75.09 | H33: =$H$17 -> 9.06 | I33: =$I$17 -> 149.1 | J33: =H33*I33 -> 1350.846 | K33: P020 | L33: Cercana | M33: 6000 | N33: =+$N$17 -> 994 | O33: =+ROUND((G33*N33),2)+J33+M33 -> 81990.306 | P33: =O33/(G33) -> 1091.8938 | Q33: 0.01 | R33: =O33*Q33 -> 819.90306 | S33: 0.04 | T33: =O33*S33 -> 3279.6122 | U33: =COUNTIF(X33:DS33,">0")-2 -> 3 | V33: 0.95 | W33: =+O33*V33 -> 77890.791 | AF33: =+$R33 -> 819.90306 | AG33: =+$T33/3 -> 1093.2041 | AH33: =+AG33 -> 1093.2041 | AI33: =+AH33 -> 1093.2041 | AJ33: =+$W33 -> 77890.791 | AK33: 0 | AL33: 0 | AM33: 0 | AN33: 0 | AO33: 0 | AP33: 0 | AQ33: 0 | AR33: 0 | AS33: 0 | AT33: 0 | AU33: 0 | AV33: 0 | AW33: 0 | AX33: 0 | AY33: 0 | AZ33: 0 | BA33: 0 | BB33: 0 | BC33: 0 | BD33: 0 | BE33: 0 | BF33: 0 | BG33: 0 | BH33: 0 | BI33: 0 | BJ33: 0 | BK33: 0 | BL33: 0 | BM33: 0 | BN33: 0 | BO33: 0 | BP33: 0 | BQ33: 0 | BR33: 0 | BS33: 0 | BT33: 0 | BU33: 0 | BV33: 0 | BW33: 0 | BX33: 0 | BY33: 0 | BZ33: 0 | CA33: 0 | CB33: 0 | CC33: 0 | CD33: 0 | CE33: 0 | CF33: 0 | CG33: 0 | CH33: 0 | CI33: 0 | CJ33: 0 | CK33: 0 | CL33: 0 | CM33: 0 | CN33: 0 | CO33: 0 | CP33: 0 | CQ33: 0 | CR33: 0 | CS33: 0 | CT33: 0 | CU33: 0 | CV33: 0 | CW33: 0 | CX33: 0 | CY33: 0 | CZ33: 0 | DA33: 0 | DB33: 0 | DC33: 0 | DD33: 0 | DE33: 0 | DF33: 0 | DG33: 0 | DH33: 0 | DI33: 0 | DJ33: 0 | DK33: 0 | DL33: 0 | DM33: 0 | DN33: 0 | DO33: 0 | DP33: 0 | DQ33: 0 | DR33: 0 | DS33: 0 | DT33: =SUM(X33:DR33) -> 81990.306 | DU33: =+O33-DT33 -> 0 | DW33: =O33=DT33 -> TRUE
A34: Casa 018 | C34: B | E34: =$E$17 -> 74.01 | F34: =$F$33 -> 1.08 | G34: =+E34+F34 -> 75.09 | H34: =$H$17 -> 9.06 | I34: =$I$17 -> 149.1 | J34: =H34*I34 -> 1350.846 | K34: P019 | L34: Cercana | M34: 6000 | N34: =+$N$17 -> 994 | O34: =+ROUND((G34*N34),2)+J34+M34 -> 81990.306 | P34: =O34/(G34) -> 1091.8938 | Q34: 0.01 | R34: =O34*Q34 -> 819.90306 | S34: 0.04 | T34: =O34*S34 -> 3279.6122 | U34: =COUNTIF(X34:DS34,">0")-2 -> 5 | V34: 0.95 | W34: =+O34*V34 -> 77890.791 | AG34: =+$R34 -> 819.90306 | AH34: =+$T34/5 -> 655.92245 | AI34: =+AH34 -> 655.92245 | AJ34: =+AI34 -> 655.92245 | AK34: =+AJ34 -> 655.92245 | AL34: =+AK34 -> 655.92245 | AM34: =+$W34 -> 77890.791 | AN34: 0 | AO34: 0 | AP34: 0 | AQ34: 0 | AR34: 0 | AS34: 0 | AT34: 0 | AU34: 0 | AV34: 0 | AW34: 0 | AX34: 0 | AY34: 0 | AZ34: 0 | BA34: 0 | BB34: 0 | BC34: 0 | BD34: 0 | BE34: 0 | BF34: 0 | BG34: 0 | BH34: 0 | BI34: 0 | BJ34: 0 | BK34: 0 | BL34: 0 | BM34: 0 | BN34: 0 | BO34: 0 | BP34: 0 | BQ34: 0 | BR34: 0 | BS34: 0 | BT34: 0 | BU34: 0 | BV34: 0 | BW34: 0 | BX34: 0 | BY34: 0 | BZ34: 0 | CA34: 0 | CB34: 0 | CC34: 0 | CD34: 0 | CE34: 0 | CF34: 0 | CG34: 0 | CH34: 0 | CI34: 0 | CJ34: 0 | CK34: 0 | CL34: 0 | CM34: 0 | CN34: 0 | CO34: 0 | CP34: 0 | CQ34: 0 | CR34: 0 | CS34: 0 | CT34: 0 | CU34: 0 | CV34: 0 | CW34: 0 | CX34: 0 | CY34: 0 | CZ34: 0 | DA34: 0 | DB34: 0 | DC34: 0 | DD34: 0 | DE34: 0 | DF34: 0 | DG34: 0 | DH34: 0 | DI34: 0 | DJ34: 0 | DK34: 0 | DL34: 0 | DM34: 0 | DN34: 0 | DO34: 0 | DP34: 0 | DQ34: 0 | DR34: 0 | DS34: 0 | DT34: =SUM(X34:DR34) -> 81990.306 | DU34: =+O34-DT34 -> 0 | DW34: =O34=DT34 -> TRUE
A35: Casa 019 | C35: A | E35: 52.44 | F35: 1.08 | G35: =+E35+F35 -> 53.52 | H35: 9.06 | I35: =$I$17 -> 149.1 | J35: =H35*I35 -> 1350.846 | K35: P035 | L35: Cercana | M35: 6000 | N35: 1120 | O35: =+ROUND((G35*N35),2)+J35+M35 -> 67293.246 | P35: =O35/(G35) -> 1257.3476 | Q35: 0.01 | R35: =O35*Q35 -> 672.93246 | S35: 0.04 | T35: =O35*S35 -> 2691.7298 | U35: =COUNTIF(X35:DS35,">0")-2 -> 5 | V35: 0.95 | W35: =+O35*V35 -> 63928.584 | X35: =+$R35 -> 672.93246 | Y35: =+$T35/5 -> 538.34597 | Z35: =+Y35 -> 538.34597 | AA35: =+Z35 -> 538.34597 | AB35: =+AA35 -> 538.34597 | AC35: =+AB35 -> 538.34597 | AD35: =+$W35 -> 63928.584 | AE35: 0 | AF35: 0 | AG35: 0 | AH35: 0 | AI35: 0 | AJ35: 0 | AK35: 0 | AL35: 0 | AM35: 0 | AN35: 0 | AO35: 0 | AP35: 0 | AQ35: 0 | AR35: 0 | AS35: 0 | AT35: 0 | AU35: 0 | AV35: 0 | AW35: 0 | AX35: 0 | AY35: 0 | AZ35: 0 | BA35: 0 | BB35: 0 | BC35: 0 | BD35: 0 | BE35: 0 | BF35: 0 | BG35: 0 | BH35: 0 | BI35: 0 | BJ35: 0 | BK35: 0 | BL35: 0 | BM35: 0 | BN35: 0 | BO35: 0 | BP35: 0 | BQ35: 0 | BR35: 0 | BS35: 0 | BT35: 0 | BU35: 0 | BV35: 0 | BW35: 0 | BX35: 0 | BY35: 0 | BZ35: 0 | CA35: 0 | CB35: 0 | CC35: 0 | CD35: 0 | CE35: 0 | CF35: 0 | CG35: 0 | CH35: 0 | CI35: 0 | CJ35: 0 | CK35: 0 | CL35: 0 | CM35: 0 | CN35: 0 | CO35: 0 | CP35: 0 | CQ35: 0 | CR35: 0 | CS35: 0 | CT35: 0 | CU35: 0 | CV35: 0 | CW35: 0 | CX35: 0 | CY35: 0 | CZ35: 0 | DA35: 0 | DB35: 0 | DC35: 0 | DD35: 0 | DE35: 0 | DF35: 0 | DG35: 0 | DH35: 0 | DI35: 0 | DJ35: 0 | DK35: 0 | DL35: 0 | DM35: 0 | DN35: 0 | DO35: 0 | DP35: 0 | DQ35: 0 | DR35: 0 | DS35: 0 | DT35: =SUM(X35:DR35) -> 67293.246 | DU35: =+O35-DT35 -> 0 | DW35: =O35=DT35 -> TRUE
